BEGIN:VCALENDAR
VERSION:2.0
PRODID:-//Colors of Spanish - ECPv6.15.20//NONSGML v1.0//EN
CALSCALE:GREGORIAN
METHOD:PUBLISH
X-WR-CALNAME:Colors of Spanish
X-ORIGINAL-URL:https://www.colorsofspanish.org
X-WR-CALDESC:Events for Colors of Spanish
REFRESH-INTERVAL;VALUE=DURATION:PT1H
X-Robots-Tag:noindex
X-PUBLISHED-TTL:PT1H
BEGIN:VTIMEZONE
TZID:America/Los_Angeles
BEGIN:DAYLIGHT
TZOFFSETFROM:-0800
TZOFFSETTO:-0700
TZNAME:PDT
DTSTART:20250309T100000
END:DAYLIGHT
BEGIN:STANDARD
TZOFFSETFROM:-0700
TZOFFSETTO:-0800
TZNAME:PST
DTSTART:20251102T090000
END:STANDARD
BEGIN:DAYLIGHT
TZOFFSETFROM:-0800
TZOFFSETTO:-0700
TZNAME:PDT
DTSTART:20260308T100000
END:DAYLIGHT
BEGIN:STANDARD
TZOFFSETFROM:-0700
TZOFFSETTO:-0800
TZNAME:PST
DTSTART:20261101T090000
END:STANDARD
BEGIN:DAYLIGHT
TZOFFSETFROM:-0800
TZOFFSETTO:-0700
TZNAME:PDT
DTSTART:20270314T100000
END:DAYLIGHT
BEGIN:STANDARD
TZOFFSETFROM:-0700
TZOFFSETTO:-0800
TZNAME:PST
DTSTART:20271107T090000
END:STANDARD
END:VTIMEZONE
BEGIN:VEVENT
DTSTART;TZID=America/Los_Angeles:20260608T101500
DTEND;TZID=America/Los_Angeles:20260608T104500
DTSTAMP:20260423T111934
CREATED:20250618T035531Z
LAST-MODIFIED:20251222T025425Z
UID:10002200-1780913700-1780915500@www.colorsofspanish.org
SUMMARY:Mill Valley Library - 10:15am
DESCRIPTION:
URL:https://www.colorsofspanish.org/event/mill-valley-library-1015am/2026-06-08
LOCATION:Mill Valley Public Library\, 375 Throckmorton Ave\, Mill Valley\, CA\, 94941
CATEGORIES:Storytelling
ATTACH;FMTTYPE=image/jpeg:https://www.colorsofspanish.org/wp-content/uploads/2025/03/logo_Mill_Valley_Library_square-1.jpg
ORGANIZER;CN="Colors of Spanish":MAILTO:info@colorsofspanish.com
END:VEVENT
END:VCALENDAR