BEGIN:VCALENDAR
VERSION:2.0
PRODID:-//Colors of Spanish - ECPv6.15.20//NONSGML v1.0//EN
CALSCALE:GREGORIAN
METHOD:PUBLISH
X-WR-CALNAME:Colors of Spanish
X-ORIGINAL-URL:https://www.colorsofspanish.org
X-WR-CALDESC:Events for Colors of Spanish
REFRESH-INTERVAL;VALUE=DURATION:PT1H
X-Robots-Tag:noindex
X-PUBLISHED-TTL:PT1H
BEGIN:VTIMEZONE
TZID:America/Los_Angeles
BEGIN:DAYLIGHT
TZOFFSETFROM:-0800
TZOFFSETTO:-0700
TZNAME:PDT
DTSTART:20250309T100000
END:DAYLIGHT
BEGIN:STANDARD
TZOFFSETFROM:-0700
TZOFFSETTO:-0800
TZNAME:PST
DTSTART:20251102T090000
END:STANDARD
BEGIN:DAYLIGHT
TZOFFSETFROM:-0800
TZOFFSETTO:-0700
TZNAME:PDT
DTSTART:20260308T100000
END:DAYLIGHT
BEGIN:STANDARD
TZOFFSETFROM:-0700
TZOFFSETTO:-0800
TZNAME:PST
DTSTART:20261101T090000
END:STANDARD
BEGIN:DAYLIGHT
TZOFFSETFROM:-0800
TZOFFSETTO:-0700
TZNAME:PDT
DTSTART:20270314T100000
END:DAYLIGHT
BEGIN:STANDARD
TZOFFSETFROM:-0700
TZOFFSETTO:-0800
TZNAME:PST
DTSTART:20271107T090000
END:STANDARD
END:VTIMEZONE
BEGIN:VEVENT
DTSTART;TZID=America/Los_Angeles:20260423T103000
DTEND;TZID=America/Los_Angeles:20260423T110000
DTSTAMP:20260423T031945
CREATED:20250810T233242Z
LAST-MODIFIED:20250810T233242Z
UID:10002016-1776940200-1776942000@www.colorsofspanish.org
SUMMARY:Children’s Museum of Sonoma County – 10:30am
DESCRIPTION:
URL:https://www.colorsofspanish.org/event/childrens-museum-of-sonoma-county-1030am/2026-04-23
LOCATION:Children’s Museum of Sonoma County\, 1835 W Steele Ln\, Santa Rosa\, CA\, 95403\, United States
CATEGORIES:Storytelling
ATTACH;FMTTYPE=image/jpeg:https://www.colorsofspanish.org/wp-content/uploads/2025/03/CMOSC_logo.jpeg
ORGANIZER;CN="Colors of Spanish":MAILTO:info@colorsofspanish.com
END:VEVENT
BEGIN:VEVENT
DTSTART;TZID=America/Los_Angeles:20260425T100000
DTEND;TZID=America/Los_Angeles:20260425T103000
DTSTAMP:20260423T031945
CREATED:20250810T232906Z
LAST-MODIFIED:20250810T232906Z
UID:10001982-1777111200-1777113000@www.colorsofspanish.org
SUMMARY:Children’s Museum of Sonoma County – 10:00am
DESCRIPTION:
URL:https://www.colorsofspanish.org/event/childrens-museum-of-sonoma-county-1000am-2/2026-04-25
LOCATION:Children’s Museum of Sonoma County\, 1835 W Steele Ln\, Santa Rosa\, CA\, 95403\, United States
CATEGORIES:Storytelling
ATTACH;FMTTYPE=image/jpeg:https://www.colorsofspanish.org/wp-content/uploads/2025/03/CMOSC_logo.jpeg
ORGANIZER;CN="Colors of Spanish":MAILTO:info@colorsofspanish.com
END:VEVENT
BEGIN:VEVENT
DTSTART;TZID=America/Los_Angeles:20260425T100000
DTEND;TZID=America/Los_Angeles:20260425T103000
DTSTAMP:20260423T031945
CREATED:20260102T200844Z
LAST-MODIFIED:20260121T045752Z
UID:10002275-1777111200-1777113000@www.colorsofspanish.org
SUMMARY:Rancho Feliz (SPARC) - 10:00am
DESCRIPTION:
URL:https://www.colorsofspanish.org/event/las-casitas-de-sonoma202502/2026-04-25
LOCATION:Rancho Feliz\, 6607 Redwood Drive\, Rohnert Park\, CA\, 94928
CATEGORIES:Storytelling
ATTACH;FMTTYPE=image/png:https://www.colorsofspanish.org/wp-content/uploads/2025/12/logo_SPARC.png
ORGANIZER;CN="Colors of Spanish":MAILTO:info@colorsofspanish.com
END:VEVENT
BEGIN:VEVENT
DTSTART;TZID=America/Los_Angeles:20260425T103000
DTEND;TZID=America/Los_Angeles:20260425T110000
DTSTAMP:20260423T031945
CREATED:20250819T012528Z
LAST-MODIFIED:20250819T012528Z
UID:10002125-1777113000-1777114800@www.colorsofspanish.org
SUMMARY:Central Library (Santa Rosa) - 10:30am
DESCRIPTION:
URL:https://www.colorsofspanish.org/event/central-library-santa-rosa-1030am/2026-04-25
LOCATION:Santa Rosa Central Library\, 211 E St\, Santa Rosa\, CA\, 95404\, United States
CATEGORIES:Storytelling
ATTACH;FMTTYPE=image/jpeg:https://www.colorsofspanish.org/wp-content/uploads/2025/03/SCL_Logo.Biblioteca_CMYK.jpg
ORGANIZER;CN="Colors of Spanish":MAILTO:info@colorsofspanish.com
END:VEVENT
BEGIN:VEVENT
DTSTART;TZID=America/Los_Angeles:20260427T101500
DTEND;TZID=America/Los_Angeles:20260427T104500
DTSTAMP:20260423T031945
CREATED:20250618T035531Z
LAST-MODIFIED:20251222T025425Z
UID:10002195-1777284900-1777286700@www.colorsofspanish.org
SUMMARY:Mill Valley Library - 10:15am
DESCRIPTION:
URL:https://www.colorsofspanish.org/event/mill-valley-library-1015am/2026-04-27
LOCATION:Mill Valley Public Library\, 375 Throckmorton Ave\, Mill Valley\, CA\, 94941
CATEGORIES:Storytelling
ATTACH;FMTTYPE=image/jpeg:https://www.colorsofspanish.org/wp-content/uploads/2025/03/logo_Mill_Valley_Library_square-1.jpg
ORGANIZER;CN="Colors of Spanish":MAILTO:info@colorsofspanish.com
END:VEVENT
BEGIN:VEVENT
DTSTART;TZID=America/Los_Angeles:20260427T113000
DTEND;TZID=America/Los_Angeles:20260427T120000
DTSTAMP:20260423T031945
CREATED:20250819T012703Z
LAST-MODIFIED:20260102T200026Z
UID:10002134-1777289400-1777291200@www.colorsofspanish.org
SUMMARY:Roseland Regional Library - 11:30am
DESCRIPTION:
URL:https://www.colorsofspanish.org/event/roseland-regional-library-1130am/2026-04-27
LOCATION:Roseland Regional Library\, 470 Sebastopol Rd\, Santa Rosa\, CA\, 95407\, United States
CATEGORIES:Storytelling
ATTACH;FMTTYPE=image/jpeg:https://www.colorsofspanish.org/wp-content/uploads/2025/03/SCL_Logo.Biblioteca_CMYK.jpg
ORGANIZER;CN="Colors of Spanish":MAILTO:info@colorsofspanish.com
END:VEVENT
BEGIN:VEVENT
DTSTART;TZID=America/Los_Angeles:20260428T110000
DTEND;TZID=America/Los_Angeles:20260428T113000
DTSTAMP:20260423T031945
CREATED:20250819T010832Z
LAST-MODIFIED:20250819T010832Z
UID:10002069-1777374000-1777375800@www.colorsofspanish.org
SUMMARY:Windsor Regional Library - 11:00am
DESCRIPTION:
URL:https://www.colorsofspanish.org/event/windsor-regional-library-1100am-2/2026-04-28
LOCATION:Windsor Regional Library\, 9291 Old Redwood Hwy #100\, Windsor\, CA\, 95492\, United States
CATEGORIES:Storytelling
ATTACH;FMTTYPE=image/jpeg:https://www.colorsofspanish.org/wp-content/uploads/2025/03/SCL_Logo.Biblioteca_CMYK.jpg
ORGANIZER;CN="Colors of Spanish":MAILTO:info@colorsofspanish.com
END:VEVENT
BEGIN:VEVENT
DTSTART;TZID=America/Los_Angeles:20260430T103000
DTEND;TZID=America/Los_Angeles:20260430T110000
DTSTAMP:20260423T031945
CREATED:20250810T233242Z
LAST-MODIFIED:20250810T233242Z
UID:10002017-1777545000-1777546800@www.colorsofspanish.org
SUMMARY:Children’s Museum of Sonoma County – 10:30am
DESCRIPTION:
URL:https://www.colorsofspanish.org/event/childrens-museum-of-sonoma-county-1030am/2026-04-30
LOCATION:Children’s Museum of Sonoma County\, 1835 W Steele Ln\, Santa Rosa\, CA\, 95403\, United States
CATEGORIES:Storytelling
ATTACH;FMTTYPE=image/jpeg:https://www.colorsofspanish.org/wp-content/uploads/2025/03/CMOSC_logo.jpeg
ORGANIZER;CN="Colors of Spanish":MAILTO:info@colorsofspanish.com
END:VEVENT
END:VCALENDAR