BEGIN:VCALENDAR
VERSION:2.0
PRODID:-//Colors of Spanish - ECPv6.15.20//NONSGML v1.0//EN
CALSCALE:GREGORIAN
METHOD:PUBLISH
X-ORIGINAL-URL:https://www.colorsofspanish.org
X-WR-CALDESC:Events for Colors of Spanish
REFRESH-INTERVAL;VALUE=DURATION:PT1H
X-Robots-Tag:noindex
X-PUBLISHED-TTL:PT1H
BEGIN:VTIMEZONE
TZID:America/Los_Angeles
BEGIN:DAYLIGHT
TZOFFSETFROM:-0800
TZOFFSETTO:-0700
TZNAME:PDT
DTSTART:20250309T100000
END:DAYLIGHT
BEGIN:STANDARD
TZOFFSETFROM:-0700
TZOFFSETTO:-0800
TZNAME:PST
DTSTART:20251102T090000
END:STANDARD
BEGIN:DAYLIGHT
TZOFFSETFROM:-0800
TZOFFSETTO:-0700
TZNAME:PDT
DTSTART:20260308T100000
END:DAYLIGHT
BEGIN:STANDARD
TZOFFSETFROM:-0700
TZOFFSETTO:-0800
TZNAME:PST
DTSTART:20261101T090000
END:STANDARD
BEGIN:DAYLIGHT
TZOFFSETFROM:-0800
TZOFFSETTO:-0700
TZNAME:PDT
DTSTART:20270314T100000
END:DAYLIGHT
BEGIN:STANDARD
TZOFFSETFROM:-0700
TZOFFSETTO:-0800
TZNAME:PST
DTSTART:20271107T090000
END:STANDARD
END:VTIMEZONE
BEGIN:VEVENT
DTSTART;TZID=America/Los_Angeles:20260502T100000
DTEND;TZID=America/Los_Angeles:20260502T103000
DTSTAMP:20260423T094706
CREATED:20250819T011634Z
LAST-MODIFIED:20250819T011634Z
UID:10002096-1777716000-1777717800@www.colorsofspanish.org
SUMMARY:Petaluma Regional Library - 10:00am
DESCRIPTION:
URL:https://www.colorsofspanish.org/event/petaluma-regional-library-1000am-2/2026-05-02
LOCATION:Petaluma Regional Library\, 100 Fairgrounds Dr\, Petaluma\, CA\, 94952\, United States
CATEGORIES:Storytelling
ATTACH;FMTTYPE=image/jpeg:https://www.colorsofspanish.org/wp-content/uploads/2025/03/SCL_Logo.Biblioteca_CMYK.jpg
ORGANIZER;CN="Colors of Spanish":MAILTO:info@colorsofspanish.com
END:VEVENT
BEGIN:VEVENT
DTSTART;TZID=America/Los_Angeles:20260502T100000
DTEND;TZID=America/Los_Angeles:20260502T103000
DTSTAMP:20260423T094706
CREATED:20260102T200844Z
LAST-MODIFIED:20260121T045752Z
UID:10002276-1777716000-1777717800@www.colorsofspanish.org
SUMMARY:Rancho Feliz (SPARC) - 10:00am
DESCRIPTION:
URL:https://www.colorsofspanish.org/event/las-casitas-de-sonoma202502/2026-05-02
LOCATION:Rancho Feliz\, 6607 Redwood Drive\, Rohnert Park\, CA\, 94928
CATEGORIES:Storytelling
ATTACH;FMTTYPE=image/png:https://www.colorsofspanish.org/wp-content/uploads/2025/12/logo_SPARC.png
ORGANIZER;CN="Colors of Spanish":MAILTO:info@colorsofspanish.com
END:VEVENT
BEGIN:VEVENT
DTSTART;TZID=America/Los_Angeles:20260504T101500
DTEND;TZID=America/Los_Angeles:20260504T104500
DTSTAMP:20260423T094706
CREATED:20250618T035531Z
LAST-MODIFIED:20251222T025425Z
UID:10002196-1777889700-1777891500@www.colorsofspanish.org
SUMMARY:Mill Valley Library - 10:15am
DESCRIPTION:
URL:https://www.colorsofspanish.org/event/mill-valley-library-1015am/2026-05-04
LOCATION:Mill Valley Public Library\, 375 Throckmorton Ave\, Mill Valley\, CA\, 94941
CATEGORIES:Storytelling
ATTACH;FMTTYPE=image/jpeg:https://www.colorsofspanish.org/wp-content/uploads/2025/03/logo_Mill_Valley_Library_square-1.jpg
ORGANIZER;CN="Colors of Spanish":MAILTO:info@colorsofspanish.com
END:VEVENT
BEGIN:VEVENT
DTSTART;TZID=America/Los_Angeles:20260505T103000
DTEND;TZID=America/Los_Angeles:20260505T110000
DTSTAMP:20260423T094706
CREATED:20250819T010037Z
LAST-MODIFIED:20250819T010037Z
UID:10002046-1777977000-1777978800@www.colorsofspanish.org
SUMMARY:Cloverdale Regional Library - 10:30am
DESCRIPTION:
URL:https://www.colorsofspanish.org/event/cloverdale-regional-library-1030am/2026-05-05
LOCATION:Cloverdale Regional Library\, 401 N Cloverdale Blvd\, Cloverdale\, CA\, 95425
CATEGORIES:Storytelling
ATTACH;FMTTYPE=image/jpeg:https://www.colorsofspanish.org/wp-content/uploads/2025/03/SCL_Logo.Biblioteca_CMYK.jpg
ORGANIZER;CN="Colors of Spanish":MAILTO:info@colorsofspanish.com
END:VEVENT
BEGIN:VEVENT
DTSTART;TZID=America/Los_Angeles:20260505T110000
DTEND;TZID=America/Los_Angeles:20260505T113000
DTSTAMP:20260423T094706
CREATED:20250819T005812Z
LAST-MODIFIED:20250819T005812Z
UID:10002037-1777978800-1777980600@www.colorsofspanish.org
SUMMARY:Healdsburg Regional Library - 11:00am
DESCRIPTION:
URL:https://www.colorsofspanish.org/event/healdsburg-regional-library-1100am-2/2026-05-05
LOCATION:Healdsburg Regional Library\, 139 Piper St\,\, Healdsburg CA\, CA\, 95448\, United States
CATEGORIES:Storytelling
ATTACH;FMTTYPE=image/jpeg:https://www.colorsofspanish.org/wp-content/uploads/2025/03/SCL_Logo.Biblioteca_CMYK.jpg
ORGANIZER;CN="Colors of Spanish":MAILTO:info@colorsofspanish.com
END:VEVENT
BEGIN:VEVENT
DTSTART;TZID=America/Los_Angeles:20260506T100000
DTEND;TZID=America/Los_Angeles:20260506T103000
DTSTAMP:20260423T094706
CREATED:20251222T030349Z
LAST-MODIFIED:20260410T201522Z
UID:10002315-1778061600-1778063400@www.colorsofspanish.org
SUMMARY:Novato Branch (Marin) – 10:00am
DESCRIPTION:
URL:https://www.colorsofspanish.org/event/novato-branch-marin-1000am/2026-05-06
LOCATION:Novato Library\, 1720 Novato Blvd\, Novato\, CA\, 94947\, United States
CATEGORIES:Storytelling
ATTACH;FMTTYPE=image/png:https://www.colorsofspanish.org/wp-content/uploads/2024/09/marincounty.png
ORGANIZER;CN="Colors of Spanish":MAILTO:info@colorsofspanish.com
END:VEVENT
BEGIN:VEVENT
DTSTART;TZID=America/Los_Angeles:20260506T111500
DTEND;TZID=America/Los_Angeles:20260506T114500
DTSTAMP:20260423T094706
CREATED:20250618T040200Z
LAST-MODIFIED:20251222T024549Z
UID:10002147-1778066100-1778067900@www.colorsofspanish.org
SUMMARY:South Novato Branch (Marin) - 11:15am
DESCRIPTION:
URL:https://www.colorsofspanish.org/event/south-novato-branch-marin-1115am-2/2026-05-06
LOCATION:South Novato Library\, 931 C St\, Novato\, CA\, 94949\, United States
CATEGORIES:Storytelling
ATTACH;FMTTYPE=image/png:https://www.colorsofspanish.org/wp-content/uploads/2024/09/marincounty.png
ORGANIZER;CN="Colors of Spanish":MAILTO:info@colorsofspanish.com
END:VEVENT
BEGIN:VEVENT
DTSTART;TZID=America/Los_Angeles:20260507T103000
DTEND;TZID=America/Los_Angeles:20260507T110000
DTSTAMP:20260423T094706
CREATED:20250810T233242Z
LAST-MODIFIED:20250810T233242Z
UID:10002018-1778149800-1778151600@www.colorsofspanish.org
SUMMARY:Children’s Museum of Sonoma County – 10:30am
DESCRIPTION:
URL:https://www.colorsofspanish.org/event/childrens-museum-of-sonoma-county-1030am/2026-05-07
LOCATION:Children’s Museum of Sonoma County\, 1835 W Steele Ln\, Santa Rosa\, CA\, 95403\, United States
CATEGORIES:Storytelling
ATTACH;FMTTYPE=image/jpeg:https://www.colorsofspanish.org/wp-content/uploads/2025/03/CMOSC_logo.jpeg
ORGANIZER;CN="Colors of Spanish":MAILTO:info@colorsofspanish.com
END:VEVENT
BEGIN:VEVENT
DTSTART;TZID=America/Los_Angeles:20260509T100000
DTEND;TZID=America/Los_Angeles:20260509T103000
DTSTAMP:20260423T094706
CREATED:20250810T232906Z
LAST-MODIFIED:20250810T232906Z
UID:10001983-1778320800-1778322600@www.colorsofspanish.org
SUMMARY:Children’s Museum of Sonoma County – 10:00am
DESCRIPTION:
URL:https://www.colorsofspanish.org/event/childrens-museum-of-sonoma-county-1000am-2/2026-05-09
LOCATION:Children’s Museum of Sonoma County\, 1835 W Steele Ln\, Santa Rosa\, CA\, 95403\, United States
CATEGORIES:Storytelling
ATTACH;FMTTYPE=image/jpeg:https://www.colorsofspanish.org/wp-content/uploads/2025/03/CMOSC_logo.jpeg
ORGANIZER;CN="Colors of Spanish":MAILTO:info@colorsofspanish.com
END:VEVENT
BEGIN:VEVENT
DTSTART;TZID=America/Los_Angeles:20260509T100000
DTEND;TZID=America/Los_Angeles:20260509T103000
DTSTAMP:20260423T094706
CREATED:20260102T200844Z
LAST-MODIFIED:20260121T045752Z
UID:10002277-1778320800-1778322600@www.colorsofspanish.org
SUMMARY:Rancho Feliz (SPARC) - 10:00am
DESCRIPTION:
URL:https://www.colorsofspanish.org/event/las-casitas-de-sonoma202502/2026-05-09
LOCATION:Rancho Feliz\, 6607 Redwood Drive\, Rohnert Park\, CA\, 94928
CATEGORIES:Storytelling
ATTACH;FMTTYPE=image/png:https://www.colorsofspanish.org/wp-content/uploads/2025/12/logo_SPARC.png
ORGANIZER;CN="Colors of Spanish":MAILTO:info@colorsofspanish.com
END:VEVENT
BEGIN:VEVENT
DTSTART;TZID=America/Los_Angeles:20260509T113000
DTEND;TZID=America/Los_Angeles:20260509T120000
DTSTAMP:20260423T094706
CREATED:20250819T011823Z
LAST-MODIFIED:20250819T011823Z
UID:10002105-1778326200-1778328000@www.colorsofspanish.org
SUMMARY:Northwest Library (Santa Rosa) - 11:30am
DESCRIPTION:
URL:https://www.colorsofspanish.org/event/northwest-library-santa-rosa-1130am/2026-05-09
LOCATION:Northwest Santa Rosa Library\, 150 Coddingtown Center\, Santa Rosa\, CA\, 95401
CATEGORIES:Storytelling
ATTACH;FMTTYPE=image/jpeg:https://www.colorsofspanish.org/wp-content/uploads/2025/03/SCL_Logo.Biblioteca_CMYK.jpg
ORGANIZER;CN="Colors of Spanish":MAILTO:info@colorsofspanish.com
END:VEVENT
BEGIN:VEVENT
DTSTART;TZID=America/Los_Angeles:20260511T101500
DTEND;TZID=America/Los_Angeles:20260511T104500
DTSTAMP:20260423T094706
CREATED:20250618T035531Z
LAST-MODIFIED:20251222T025425Z
UID:10002197-1778494500-1778496300@www.colorsofspanish.org
SUMMARY:Mill Valley Library - 10:15am
DESCRIPTION:
URL:https://www.colorsofspanish.org/event/mill-valley-library-1015am/2026-05-11
LOCATION:Mill Valley Public Library\, 375 Throckmorton Ave\, Mill Valley\, CA\, 94941
CATEGORIES:Storytelling
ATTACH;FMTTYPE=image/jpeg:https://www.colorsofspanish.org/wp-content/uploads/2025/03/logo_Mill_Valley_Library_square-1.jpg
ORGANIZER;CN="Colors of Spanish":MAILTO:info@colorsofspanish.com
END:VEVENT
BEGIN:VEVENT
DTSTART;TZID=America/Los_Angeles:20260512T110000
DTEND;TZID=America/Los_Angeles:20260512T113000
DTSTAMP:20260423T094706
CREATED:20250819T010317Z
LAST-MODIFIED:20250819T010333Z
UID:10002054-1778583600-1778585400@www.colorsofspanish.org
SUMMARY:Windsor Regional Library - 11:00am
DESCRIPTION:
URL:https://www.colorsofspanish.org/event/windsor-library-1100am/2026-05-12
LOCATION:Windsor Regional Library\, 9291 Old Redwood Hwy #100\, Windsor\, CA\, 95492\, United States
CATEGORIES:Storytelling
ATTACH;FMTTYPE=image/jpeg:https://www.colorsofspanish.org/wp-content/uploads/2025/03/SCL_Logo.Biblioteca_CMYK.jpg
ORGANIZER;CN="Colors of Spanish":MAILTO:info@colorsofspanish.com
END:VEVENT
BEGIN:VEVENT
DTSTART;TZID=America/Los_Angeles:20260513T103000
DTEND;TZID=America/Los_Angeles:20260513T110000
DTSTAMP:20260423T094706
CREATED:20250819T011119Z
LAST-MODIFIED:20251222T035431Z
UID:10002079-1778668200-1778670000@www.colorsofspanish.org
SUMMARY:Sebastopol Regional Library - 10:30am
DESCRIPTION:
URL:https://www.colorsofspanish.org/event/sebastopol-regional-library-1030am-2/2026-05-13
LOCATION:Sebastopol Regional Library\, 7140 Bodega Ave\, Sebastopol\, CA\, 95472\, United States
CATEGORIES:Storytelling
ATTACH;FMTTYPE=image/jpeg:https://www.colorsofspanish.org/wp-content/uploads/2025/03/SCL_Logo.Biblioteca_CMYK.jpg
ORGANIZER;CN="Colors of Spanish":MAILTO:info@colorsofspanish.com
END:VEVENT
BEGIN:VEVENT
DTSTART;TZID=America/Los_Angeles:20260514T103000
DTEND;TZID=America/Los_Angeles:20260514T110000
DTSTAMP:20260423T094706
CREATED:20250810T233242Z
LAST-MODIFIED:20250810T233242Z
UID:10002019-1778754600-1778756400@www.colorsofspanish.org
SUMMARY:Children’s Museum of Sonoma County – 10:30am
DESCRIPTION:
URL:https://www.colorsofspanish.org/event/childrens-museum-of-sonoma-county-1030am/2026-05-14
LOCATION:Children’s Museum of Sonoma County\, 1835 W Steele Ln\, Santa Rosa\, CA\, 95403\, United States
CATEGORIES:Storytelling
ATTACH;FMTTYPE=image/jpeg:https://www.colorsofspanish.org/wp-content/uploads/2025/03/CMOSC_logo.jpeg
ORGANIZER;CN="Colors of Spanish":MAILTO:info@colorsofspanish.com
END:VEVENT
BEGIN:VEVENT
DTSTART;TZID=America/Los_Angeles:20260516T100000
DTEND;TZID=America/Los_Angeles:20260516T103000
DTSTAMP:20260423T094706
CREATED:20250810T232906Z
LAST-MODIFIED:20250810T232906Z
UID:10001984-1778925600-1778927400@www.colorsofspanish.org
SUMMARY:Children’s Museum of Sonoma County – 10:00am
DESCRIPTION:
URL:https://www.colorsofspanish.org/event/childrens-museum-of-sonoma-county-1000am-2/2026-05-16
LOCATION:Children’s Museum of Sonoma County\, 1835 W Steele Ln\, Santa Rosa\, CA\, 95403\, United States
CATEGORIES:Storytelling
ATTACH;FMTTYPE=image/jpeg:https://www.colorsofspanish.org/wp-content/uploads/2025/03/CMOSC_logo.jpeg
ORGANIZER;CN="Colors of Spanish":MAILTO:info@colorsofspanish.com
END:VEVENT
BEGIN:VEVENT
DTSTART;TZID=America/Los_Angeles:20260516T100000
DTEND;TZID=America/Los_Angeles:20260516T103000
DTSTAMP:20260423T094706
CREATED:20250819T012055Z
LAST-MODIFIED:20250819T012055Z
UID:10002114-1778925600-1778927400@www.colorsofspanish.org
SUMMARY:Rohnert Park / Cotati Regional Library - 10:00am
DESCRIPTION:
URL:https://www.colorsofspanish.org/event/rohnert-park-cotati-regional-library-1000am/2026-05-16
LOCATION:Rohnert Park / Cotati Regional Library\, 6250 Lynne Conde Way\, Rohnert Park\, CA\, 94928\, United States
CATEGORIES:Storytelling
ATTACH;FMTTYPE=image/jpeg:https://www.colorsofspanish.org/wp-content/uploads/2025/03/SCL_Logo.Biblioteca_CMYK.jpg
ORGANIZER;CN="Colors of Spanish":MAILTO:info@colorsofspanish.com
END:VEVENT
BEGIN:VEVENT
DTSTART;TZID=America/Los_Angeles:20260518T101500
DTEND;TZID=America/Los_Angeles:20260518T104500
DTSTAMP:20260423T094706
CREATED:20250618T035531Z
LAST-MODIFIED:20251222T025425Z
UID:10002198-1779099300-1779101100@www.colorsofspanish.org
SUMMARY:Mill Valley Library - 10:15am
DESCRIPTION:
URL:https://www.colorsofspanish.org/event/mill-valley-library-1015am/2026-05-18
LOCATION:Mill Valley Public Library\, 375 Throckmorton Ave\, Mill Valley\, CA\, 94941
CATEGORIES:Storytelling
ATTACH;FMTTYPE=image/jpeg:https://www.colorsofspanish.org/wp-content/uploads/2025/03/logo_Mill_Valley_Library_square-1.jpg
ORGANIZER;CN="Colors of Spanish":MAILTO:info@colorsofspanish.com
END:VEVENT
BEGIN:VEVENT
DTSTART;TZID=America/Los_Angeles:20260519T110000
DTEND;TZID=America/Los_Angeles:20260519T113000
DTSTAMP:20260423T094706
CREATED:20250819T010628Z
LAST-MODIFIED:20250819T010628Z
UID:10002063-1779188400-1779190200@www.colorsofspanish.org
SUMMARY:Sonoma Valley Regional Library - 11:00am
DESCRIPTION:
URL:https://www.colorsofspanish.org/event/sonoma-valley-regional-library-1100am-2/2026-05-19
LOCATION:Sonoma Regional LIbrary\, 755 W Napa St\, Sonoma\, CA\, 95476\, United States
CATEGORIES:Storytelling
ATTACH;FMTTYPE=image/jpeg:https://www.colorsofspanish.org/wp-content/uploads/2025/03/SCL_Logo.Biblioteca_CMYK.jpg
ORGANIZER;CN="Colors of Spanish":MAILTO:info@colorsofspanish.com
END:VEVENT
BEGIN:VEVENT
DTSTART;TZID=America/Los_Angeles:20260520T100000
DTEND;TZID=America/Los_Angeles:20260520T103000
DTSTAMP:20260423T094706
CREATED:20250618T041500Z
LAST-MODIFIED:20250618T041500Z
UID:10001925-1779271200-1779273000@www.colorsofspanish.org
SUMMARY:Café Puente (Petaluma) - 10:00am
DESCRIPTION:
URL:https://www.colorsofspanish.org/event/cafe-puente-petaluma-1000am-2/2026-05-20
LOCATION:Café Puente\, 610 E Washington St #C\, Petaluma\, CA\, 94952\, United States
CATEGORIES:Storytelling
ATTACH;FMTTYPE=image/jpeg:https://www.colorsofspanish.org/wp-content/uploads/2024/08/LogoCAfePuente-scaled.jpg
ORGANIZER;CN="Colors of Spanish":MAILTO:info@colorsofspanish.com
END:VEVENT
BEGIN:VEVENT
DTSTART;TZID=America/Los_Angeles:20260520T100000
DTEND;TZID=America/Los_Angeles:20260520T103000
DTSTAMP:20260423T094706
CREATED:20251222T030526Z
LAST-MODIFIED:20260410T201604Z
UID:10002318-1779271200-1779273000@www.colorsofspanish.org
SUMMARY:Novato Branch (Marin) – 10:00am
DESCRIPTION:
URL:https://www.colorsofspanish.org/event/novato-branch-marin-1000am-2/2026-05-20
LOCATION:Novato Library\, 1720 Novato Blvd\, Novato\, CA\, 94947\, United States
CATEGORIES:Storytelling
ATTACH;FMTTYPE=image/png:https://www.colorsofspanish.org/wp-content/uploads/2024/09/marincounty.png
ORGANIZER;CN="Colors of Spanish":MAILTO:info@colorsofspanish.com
END:VEVENT
BEGIN:VEVENT
DTSTART;TZID=America/Los_Angeles:20260520T103000
DTEND;TZID=America/Los_Angeles:20260520T110000
DTSTAMP:20260423T094706
CREATED:20251003T004014Z
LAST-MODIFIED:20251222T031746Z
UID:10002215-1779273000-1779274800@www.colorsofspanish.org
SUMMARY:Inverness Library (Marin) - 10:30am
DESCRIPTION:
URL:https://www.colorsofspanish.org/event/inverness-library-marin-1030am/2026-05-20
LOCATION:Inverness Library\, 15 Park Ave\, Inverness\, CA\, 94937\, United States
CATEGORIES:Storytelling
ATTACH;FMTTYPE=image/png:https://www.colorsofspanish.org/wp-content/uploads/2024/09/marincounty.png
ORGANIZER;CN="Colors of Spanish":MAILTO:info@colorsofspanish.com
END:VEVENT
BEGIN:VEVENT
DTSTART;TZID=America/Los_Angeles:20260520T111500
DTEND;TZID=America/Los_Angeles:20260520T114500
DTSTAMP:20260423T094706
CREATED:20250618T034658Z
LAST-MODIFIED:20251222T024837Z
UID:10002159-1779275700-1779277500@www.colorsofspanish.org
SUMMARY:South Novato Branch (Marin) - 11:15am
DESCRIPTION:
URL:https://www.colorsofspanish.org/event/south-novato-branch-marin-1115am/2026-05-20
LOCATION:South Novato Library\, 931 C St\, Novato\, CA\, 94949\, United States
CATEGORIES:Storytelling
ATTACH;FMTTYPE=image/png:https://www.colorsofspanish.org/wp-content/uploads/2024/09/marincounty.png
ORGANIZER;CN="Colors of Spanish":MAILTO:info@colorsofspanish.com
END:VEVENT
BEGIN:VEVENT
DTSTART;TZID=America/Los_Angeles:20260521T103000
DTEND;TZID=America/Los_Angeles:20260521T110000
DTSTAMP:20260423T094706
CREATED:20250810T233242Z
LAST-MODIFIED:20250810T233242Z
UID:10002020-1779359400-1779361200@www.colorsofspanish.org
SUMMARY:Children’s Museum of Sonoma County – 10:30am
DESCRIPTION:
URL:https://www.colorsofspanish.org/event/childrens-museum-of-sonoma-county-1030am/2026-05-21
LOCATION:Children’s Museum of Sonoma County\, 1835 W Steele Ln\, Santa Rosa\, CA\, 95403\, United States
CATEGORIES:Storytelling
ATTACH;FMTTYPE=image/jpeg:https://www.colorsofspanish.org/wp-content/uploads/2025/03/CMOSC_logo.jpeg
ORGANIZER;CN="Colors of Spanish":MAILTO:info@colorsofspanish.com
END:VEVENT
BEGIN:VEVENT
DTSTART;TZID=America/Los_Angeles:20260523T100000
DTEND;TZID=America/Los_Angeles:20260523T103000
DTSTAMP:20260423T094706
CREATED:20250810T232906Z
LAST-MODIFIED:20250810T232906Z
UID:10001985-1779530400-1779532200@www.colorsofspanish.org
SUMMARY:Children’s Museum of Sonoma County – 10:00am
DESCRIPTION:
URL:https://www.colorsofspanish.org/event/childrens-museum-of-sonoma-county-1000am-2/2026-05-23
LOCATION:Children’s Museum of Sonoma County\, 1835 W Steele Ln\, Santa Rosa\, CA\, 95403\, United States
CATEGORIES:Storytelling
ATTACH;FMTTYPE=image/jpeg:https://www.colorsofspanish.org/wp-content/uploads/2025/03/CMOSC_logo.jpeg
ORGANIZER;CN="Colors of Spanish":MAILTO:info@colorsofspanish.com
END:VEVENT
BEGIN:VEVENT
DTSTART;TZID=America/Los_Angeles:20260523T103000
DTEND;TZID=America/Los_Angeles:20260523T110000
DTSTAMP:20260423T094706
CREATED:20250819T012528Z
LAST-MODIFIED:20250819T012528Z
UID:10002126-1779532200-1779534000@www.colorsofspanish.org
SUMMARY:Central Library (Santa Rosa) - 10:30am
DESCRIPTION:
URL:https://www.colorsofspanish.org/event/central-library-santa-rosa-1030am/2026-05-23
LOCATION:Santa Rosa Central Library\, 211 E St\, Santa Rosa\, CA\, 95404\, United States
CATEGORIES:Storytelling
ATTACH;FMTTYPE=image/jpeg:https://www.colorsofspanish.org/wp-content/uploads/2025/03/SCL_Logo.Biblioteca_CMYK.jpg
ORGANIZER;CN="Colors of Spanish":MAILTO:info@colorsofspanish.com
END:VEVENT
BEGIN:VEVENT
DTSTART;TZID=America/Los_Angeles:20260526T110000
DTEND;TZID=America/Los_Angeles:20260526T113000
DTSTAMP:20260423T094706
CREATED:20250819T010832Z
LAST-MODIFIED:20250819T010832Z
UID:10002070-1779793200-1779795000@www.colorsofspanish.org
SUMMARY:Windsor Regional Library - 11:00am
DESCRIPTION:
URL:https://www.colorsofspanish.org/event/windsor-regional-library-1100am-2/2026-05-26
LOCATION:Windsor Regional Library\, 9291 Old Redwood Hwy #100\, Windsor\, CA\, 95492\, United States
CATEGORIES:Storytelling
ATTACH;FMTTYPE=image/jpeg:https://www.colorsofspanish.org/wp-content/uploads/2025/03/SCL_Logo.Biblioteca_CMYK.jpg
ORGANIZER;CN="Colors of Spanish":MAILTO:info@colorsofspanish.com
END:VEVENT
BEGIN:VEVENT
DTSTART;TZID=America/Los_Angeles:20260528T103000
DTEND;TZID=America/Los_Angeles:20260528T110000
DTSTAMP:20260423T094706
CREATED:20250810T233242Z
LAST-MODIFIED:20250810T233242Z
UID:10002021-1779964200-1779966000@www.colorsofspanish.org
SUMMARY:Children’s Museum of Sonoma County – 10:30am
DESCRIPTION:
URL:https://www.colorsofspanish.org/event/childrens-museum-of-sonoma-county-1030am/2026-05-28
LOCATION:Children’s Museum of Sonoma County\, 1835 W Steele Ln\, Santa Rosa\, CA\, 95403\, United States
CATEGORIES:Storytelling
ATTACH;FMTTYPE=image/jpeg:https://www.colorsofspanish.org/wp-content/uploads/2025/03/CMOSC_logo.jpeg
ORGANIZER;CN="Colors of Spanish":MAILTO:info@colorsofspanish.com
END:VEVENT
BEGIN:VEVENT
DTSTART;TZID=America/Los_Angeles:20260530T100000
DTEND;TZID=America/Los_Angeles:20260530T103000
DTSTAMP:20260423T094706
CREATED:20250810T232906Z
LAST-MODIFIED:20250810T232906Z
UID:10001986-1780135200-1780137000@www.colorsofspanish.org
SUMMARY:Children’s Museum of Sonoma County – 10:00am
DESCRIPTION:
URL:https://www.colorsofspanish.org/event/childrens-museum-of-sonoma-county-1000am-2/2026-05-30
LOCATION:Children’s Museum of Sonoma County\, 1835 W Steele Ln\, Santa Rosa\, CA\, 95403\, United States
CATEGORIES:Storytelling
ATTACH;FMTTYPE=image/jpeg:https://www.colorsofspanish.org/wp-content/uploads/2025/03/CMOSC_logo.jpeg
ORGANIZER;CN="Colors of Spanish":MAILTO:info@colorsofspanish.com
END:VEVENT
END:VCALENDAR