BEGIN:VCALENDAR
VERSION:2.0
PRODID:-//Colors of Spanish - ECPv6.15.20//NONSGML v1.0//EN
CALSCALE:GREGORIAN
METHOD:PUBLISH
X-WR-CALNAME:Colors of Spanish
X-ORIGINAL-URL:https://www.colorsofspanish.org
X-WR-CALDESC:Events for Colors of Spanish
REFRESH-INTERVAL;VALUE=DURATION:PT1H
X-Robots-Tag:noindex
X-PUBLISHED-TTL:PT1H
BEGIN:VTIMEZONE
TZID:America/Los_Angeles
BEGIN:DAYLIGHT
TZOFFSETFROM:-0800
TZOFFSETTO:-0700
TZNAME:PDT
DTSTART:20240310T100000
END:DAYLIGHT
BEGIN:STANDARD
TZOFFSETFROM:-0700
TZOFFSETTO:-0800
TZNAME:PST
DTSTART:20241103T090000
END:STANDARD
BEGIN:DAYLIGHT
TZOFFSETFROM:-0800
TZOFFSETTO:-0700
TZNAME:PDT
DTSTART:20250309T100000
END:DAYLIGHT
BEGIN:STANDARD
TZOFFSETFROM:-0700
TZOFFSETTO:-0800
TZNAME:PST
DTSTART:20251102T090000
END:STANDARD
BEGIN:DAYLIGHT
TZOFFSETFROM:-0800
TZOFFSETTO:-0700
TZNAME:PDT
DTSTART:20260308T100000
END:DAYLIGHT
BEGIN:STANDARD
TZOFFSETFROM:-0700
TZOFFSETTO:-0800
TZNAME:PST
DTSTART:20261101T090000
END:STANDARD
BEGIN:DAYLIGHT
TZOFFSETFROM:-0800
TZOFFSETTO:-0700
TZNAME:PDT
DTSTART:20270314T100000
END:DAYLIGHT
BEGIN:STANDARD
TZOFFSETFROM:-0700
TZOFFSETTO:-0800
TZNAME:PST
DTSTART:20271107T090000
END:STANDARD
END:VTIMEZONE
BEGIN:VEVENT
DTSTART;TZID=America/Los_Angeles:20251101T100000
DTEND;TZID=America/Los_Angeles:20251101T103000
DTSTAMP:20260423T163055
CREATED:20250810T232906Z
LAST-MODIFIED:20250810T232906Z
UID:10001963-1761991200-1761993000@www.colorsofspanish.org
SUMMARY:Children’s Museum of Sonoma County – 10:00am
DESCRIPTION:
URL:https://www.colorsofspanish.org/event/childrens-museum-of-sonoma-county-1000am-2/2025-11-01
LOCATION:Children’s Museum of Sonoma County\, 1835 W Steele Ln\, Santa Rosa\, CA\, 95403\, United States
CATEGORIES:Storytelling
ATTACH;FMTTYPE=image/jpeg:https://www.colorsofspanish.org/wp-content/uploads/2025/03/CMOSC_logo.jpeg
ORGANIZER;CN="Colors of Spanish":MAILTO:info@colorsofspanish.com
END:VEVENT
BEGIN:VEVENT
DTSTART;TZID=America/Los_Angeles:20251101T100000
DTEND;TZID=America/Los_Angeles:20251101T103000
DTSTAMP:20260423T163055
CREATED:20250819T011634Z
LAST-MODIFIED:20250819T011634Z
UID:10002090-1761991200-1761993000@www.colorsofspanish.org
SUMMARY:Petaluma Regional Library - 10:00am
DESCRIPTION:
URL:https://www.colorsofspanish.org/event/petaluma-regional-library-1000am-2/2025-11-01
LOCATION:Petaluma Regional Library\, 100 Fairgrounds Dr\, Petaluma\, CA\, 94952\, United States
CATEGORIES:Storytelling
ATTACH;FMTTYPE=image/jpeg:https://www.colorsofspanish.org/wp-content/uploads/2025/03/SCL_Logo.Biblioteca_CMYK.jpg
ORGANIZER;CN="Colors of Spanish":MAILTO:info@colorsofspanish.com
END:VEVENT
BEGIN:VEVENT
DTSTART;TZID=America/Los_Angeles:20251103T101500
DTEND;TZID=America/Los_Angeles:20251103T104500
DTSTAMP:20260423T163055
CREATED:20250618T035531Z
LAST-MODIFIED:20251222T025425Z
UID:10001950-1762164900-1762166700@www.colorsofspanish.org
SUMMARY:Mill Valley Library - 10:15am
DESCRIPTION:
URL:https://www.colorsofspanish.org/event/mill-valley-library-1015am/2025-11-03
LOCATION:Mill Valley Public Library\, 375 Throckmorton Ave\, Mill Valley\, CA\, 94941
CATEGORIES:Storytelling
ATTACH;FMTTYPE=image/jpeg:https://www.colorsofspanish.org/wp-content/uploads/2025/03/logo_Mill_Valley_Library_square-1.jpg
ORGANIZER;CN="Colors of Spanish":MAILTO:info@colorsofspanish.com
END:VEVENT
BEGIN:VEVENT
DTSTART;TZID=America/Los_Angeles:20251104T103000
DTEND;TZID=America/Los_Angeles:20251104T110000
DTSTAMP:20260423T163055
CREATED:20250819T010037Z
LAST-MODIFIED:20250819T010037Z
UID:10002040-1762252200-1762254000@www.colorsofspanish.org
SUMMARY:Cloverdale Regional Library - 10:30am
DESCRIPTION:
URL:https://www.colorsofspanish.org/event/cloverdale-regional-library-1030am/2025-11-04
LOCATION:Cloverdale Regional Library\, 401 N Cloverdale Blvd\, Cloverdale\, CA\, 95425
CATEGORIES:Storytelling
ATTACH;FMTTYPE=image/jpeg:https://www.colorsofspanish.org/wp-content/uploads/2025/03/SCL_Logo.Biblioteca_CMYK.jpg
ORGANIZER;CN="Colors of Spanish":MAILTO:info@colorsofspanish.com
END:VEVENT
BEGIN:VEVENT
DTSTART;TZID=America/Los_Angeles:20251104T110000
DTEND;TZID=America/Los_Angeles:20251104T113000
DTSTAMP:20260423T163055
CREATED:20250819T005812Z
LAST-MODIFIED:20250819T005812Z
UID:10002031-1762254000-1762255800@www.colorsofspanish.org
SUMMARY:Healdsburg Regional Library - 11:00am
DESCRIPTION:
URL:https://www.colorsofspanish.org/event/healdsburg-regional-library-1100am-2/2025-11-04
LOCATION:Healdsburg Regional Library\, 139 Piper St\,\, Healdsburg CA\, CA\, 95448\, United States
CATEGORIES:Storytelling
ATTACH;FMTTYPE=image/jpeg:https://www.colorsofspanish.org/wp-content/uploads/2025/03/SCL_Logo.Biblioteca_CMYK.jpg
ORGANIZER;CN="Colors of Spanish":MAILTO:info@colorsofspanish.com
END:VEVENT
BEGIN:VEVENT
DTSTART;TZID=America/Los_Angeles:20251105T111500
DTEND;TZID=America/Los_Angeles:20251105T114500
DTSTAMP:20260423T163055
CREATED:20250618T040200Z
LAST-MODIFIED:20251222T024549Z
UID:10001932-1762341300-1762343100@www.colorsofspanish.org
SUMMARY:South Novato Branch (Marin) - 11:15am
DESCRIPTION:
URL:https://www.colorsofspanish.org/event/south-novato-branch-marin-1115am-2/2025-11-05
LOCATION:South Novato Library\, 931 C St\, Novato\, CA\, 94949\, United States
CATEGORIES:Storytelling
ATTACH;FMTTYPE=image/png:https://www.colorsofspanish.org/wp-content/uploads/2024/09/marincounty.png
ORGANIZER;CN="Colors of Spanish":MAILTO:info@colorsofspanish.com
END:VEVENT
BEGIN:VEVENT
DTSTART;TZID=America/Los_Angeles:20251106T103000
DTEND;TZID=America/Los_Angeles:20251106T110000
DTSTAMP:20260423T163055
CREATED:20250810T233242Z
LAST-MODIFIED:20250810T233242Z
UID:10001996-1762425000-1762426800@www.colorsofspanish.org
SUMMARY:Children’s Museum of Sonoma County – 10:30am
DESCRIPTION:
URL:https://www.colorsofspanish.org/event/childrens-museum-of-sonoma-county-1030am/2025-11-06
LOCATION:Children’s Museum of Sonoma County\, 1835 W Steele Ln\, Santa Rosa\, CA\, 95403\, United States
CATEGORIES:Storytelling
ATTACH;FMTTYPE=image/jpeg:https://www.colorsofspanish.org/wp-content/uploads/2025/03/CMOSC_logo.jpeg
ORGANIZER;CN="Colors of Spanish":MAILTO:info@colorsofspanish.com
END:VEVENT
BEGIN:VEVENT
DTSTART;TZID=America/Los_Angeles:20251108T113000
DTEND;TZID=America/Los_Angeles:20251108T120000
DTSTAMP:20260423T163055
CREATED:20250819T011823Z
LAST-MODIFIED:20250819T011823Z
UID:10002099-1762601400-1762603200@www.colorsofspanish.org
SUMMARY:Northwest Library (Santa Rosa) - 11:30am
DESCRIPTION:
URL:https://www.colorsofspanish.org/event/northwest-library-santa-rosa-1130am/2025-11-08
LOCATION:Northwest Santa Rosa Library\, 150 Coddingtown Center\, Santa Rosa\, CA\, 95401
CATEGORIES:Storytelling
ATTACH;FMTTYPE=image/jpeg:https://www.colorsofspanish.org/wp-content/uploads/2025/03/SCL_Logo.Biblioteca_CMYK.jpg
ORGANIZER;CN="Colors of Spanish":MAILTO:info@colorsofspanish.com
END:VEVENT
BEGIN:VEVENT
DTSTART;TZID=America/Los_Angeles:20251112T103000
DTEND;TZID=America/Los_Angeles:20251112T110000
DTSTAMP:20260423T163055
CREATED:20250819T011119Z
LAST-MODIFIED:20251222T035431Z
UID:10002073-1762943400-1762945200@www.colorsofspanish.org
SUMMARY:Sebastopol Regional Library - 10:30am
DESCRIPTION:
URL:https://www.colorsofspanish.org/event/sebastopol-regional-library-1030am-2/2025-11-12
LOCATION:Sebastopol Regional Library\, 7140 Bodega Ave\, Sebastopol\, CA\, 95472\, United States
CATEGORIES:Storytelling
ATTACH;FMTTYPE=image/jpeg:https://www.colorsofspanish.org/wp-content/uploads/2025/03/SCL_Logo.Biblioteca_CMYK.jpg
ORGANIZER;CN="Colors of Spanish":MAILTO:info@colorsofspanish.com
END:VEVENT
BEGIN:VEVENT
DTSTART;TZID=America/Los_Angeles:20251115T100000
DTEND;TZID=America/Los_Angeles:20251115T103000
DTSTAMP:20260423T163055
CREATED:20250819T012055Z
LAST-MODIFIED:20250819T012055Z
UID:10002108-1763200800-1763202600@www.colorsofspanish.org
SUMMARY:Rohnert Park / Cotati Regional Library - 10:00am
DESCRIPTION:
URL:https://www.colorsofspanish.org/event/rohnert-park-cotati-regional-library-1000am/2025-11-15
LOCATION:Rohnert Park / Cotati Regional Library\, 6250 Lynne Conde Way\, Rohnert Park\, CA\, 94928\, United States
CATEGORIES:Storytelling
ATTACH;FMTTYPE=image/jpeg:https://www.colorsofspanish.org/wp-content/uploads/2025/03/SCL_Logo.Biblioteca_CMYK.jpg
ORGANIZER;CN="Colors of Spanish":MAILTO:info@colorsofspanish.com
END:VEVENT
BEGIN:VEVENT
DTSTART;TZID=America/Los_Angeles:20251115T103000
DTEND;TZID=America/Los_Angeles:20251115T110000
DTSTAMP:20260423T163055
CREATED:20250819T012338Z
LAST-MODIFIED:20250819T012338Z
UID:10002117-1763202600-1763204400@www.colorsofspanish.org
SUMMARY:Guerneville Regional Library - 10:30am
DESCRIPTION:
URL:https://www.colorsofspanish.org/event/guerneville-regional-library-1030am/2025-11-15
LOCATION:Guerneville Regional Library\, 14107 Armstrong Woods Rd\, Guerneville\, CA\, 95446
CATEGORIES:Storytelling
ATTACH;FMTTYPE=image/jpeg:https://www.colorsofspanish.org/wp-content/uploads/2025/03/SCL_Logo.Biblioteca_CMYK.jpg
ORGANIZER;CN="Colors of Spanish":MAILTO:info@colorsofspanish.com
END:VEVENT
BEGIN:VEVENT
DTSTART;TZID=America/Los_Angeles:20251118T110000
DTEND;TZID=America/Los_Angeles:20251118T113000
DTSTAMP:20260423T163055
CREATED:20250819T010628Z
LAST-MODIFIED:20250819T010628Z
UID:10002057-1763463600-1763465400@www.colorsofspanish.org
SUMMARY:Sonoma Valley Regional Library - 11:00am
DESCRIPTION:
URL:https://www.colorsofspanish.org/event/sonoma-valley-regional-library-1100am-2/2025-11-18
LOCATION:Sonoma Regional LIbrary\, 755 W Napa St\, Sonoma\, CA\, 95476\, United States
CATEGORIES:Storytelling
ATTACH;FMTTYPE=image/jpeg:https://www.colorsofspanish.org/wp-content/uploads/2025/03/SCL_Logo.Biblioteca_CMYK.jpg
ORGANIZER;CN="Colors of Spanish":MAILTO:info@colorsofspanish.com
END:VEVENT
BEGIN:VEVENT
DTSTART;TZID=America/Los_Angeles:20251119T100000
DTEND;TZID=America/Los_Angeles:20251119T103000
DTSTAMP:20260423T163055
CREATED:20250618T041500Z
LAST-MODIFIED:20250618T041500Z
UID:10001919-1763546400-1763548200@www.colorsofspanish.org
SUMMARY:Café Puente (Petaluma) - 10:00am
DESCRIPTION:
URL:https://www.colorsofspanish.org/event/cafe-puente-petaluma-1000am-2/2025-11-19
LOCATION:Café Puente\, 610 E Washington St #C\, Petaluma\, CA\, 94952\, United States
CATEGORIES:Storytelling
ATTACH;FMTTYPE=image/jpeg:https://www.colorsofspanish.org/wp-content/uploads/2024/08/LogoCAfePuente-scaled.jpg
ORGANIZER;CN="Colors of Spanish":MAILTO:info@colorsofspanish.com
END:VEVENT
BEGIN:VEVENT
DTSTART;TZID=America/Los_Angeles:20251119T103000
DTEND;TZID=America/Los_Angeles:20251119T110000
DTSTAMP:20260423T163055
CREATED:20251003T004014Z
LAST-MODIFIED:20251222T031746Z
UID:10002138-1763548200-1763550000@www.colorsofspanish.org
SUMMARY:Inverness Library (Marin) - 10:30am
DESCRIPTION:
URL:https://www.colorsofspanish.org/event/inverness-library-marin-1030am/2025-11-19
LOCATION:Inverness Library\, 15 Park Ave\, Inverness\, CA\, 94937\, United States
CATEGORIES:Storytelling
ATTACH;FMTTYPE=image/png:https://www.colorsofspanish.org/wp-content/uploads/2024/09/marincounty.png
ORGANIZER;CN="Colors of Spanish":MAILTO:info@colorsofspanish.com
END:VEVENT
BEGIN:VEVENT
DTSTART;TZID=America/Los_Angeles:20251119T111500
DTEND;TZID=America/Los_Angeles:20251119T114500
DTSTAMP:20260423T163055
CREATED:20250618T034658Z
LAST-MODIFIED:20251222T024837Z
UID:10001936-1763550900-1763552700@www.colorsofspanish.org
SUMMARY:South Novato Branch (Marin) - 11:15am
DESCRIPTION:
URL:https://www.colorsofspanish.org/event/south-novato-branch-marin-1115am/2025-11-19
LOCATION:South Novato Library\, 931 C St\, Novato\, CA\, 94949\, United States
CATEGORIES:Storytelling
ATTACH;FMTTYPE=image/png:https://www.colorsofspanish.org/wp-content/uploads/2024/09/marincounty.png
ORGANIZER;CN="Colors of Spanish":MAILTO:info@colorsofspanish.com
END:VEVENT
BEGIN:VEVENT
DTSTART;TZID=America/Los_Angeles:20251122T103000
DTEND;TZID=America/Los_Angeles:20251122T110000
DTSTAMP:20260423T163055
CREATED:20250819T012528Z
LAST-MODIFIED:20250819T012528Z
UID:10002120-1763807400-1763809200@www.colorsofspanish.org
SUMMARY:Central Library (Santa Rosa) - 10:30am
DESCRIPTION:
URL:https://www.colorsofspanish.org/event/central-library-santa-rosa-1030am/2025-11-22
LOCATION:Santa Rosa Central Library\, 211 E St\, Santa Rosa\, CA\, 95404\, United States
CATEGORIES:Storytelling
ATTACH;FMTTYPE=image/jpeg:https://www.colorsofspanish.org/wp-content/uploads/2025/03/SCL_Logo.Biblioteca_CMYK.jpg
ORGANIZER;CN="Colors of Spanish":MAILTO:info@colorsofspanish.com
END:VEVENT
BEGIN:VEVENT
DTSTART;TZID=America/Los_Angeles:20251124T113000
DTEND;TZID=America/Los_Angeles:20251124T120000
DTSTAMP:20260423T163055
CREATED:20250819T012703Z
LAST-MODIFIED:20260102T200026Z
UID:10002129-1763983800-1763985600@www.colorsofspanish.org
SUMMARY:Roseland Regional Library - 11:30am
DESCRIPTION:
URL:https://www.colorsofspanish.org/event/roseland-regional-library-1130am/2025-11-24
LOCATION:Roseland Regional Library\, 470 Sebastopol Rd\, Santa Rosa\, CA\, 95407\, United States
CATEGORIES:Storytelling
ATTACH;FMTTYPE=image/jpeg:https://www.colorsofspanish.org/wp-content/uploads/2025/03/SCL_Logo.Biblioteca_CMYK.jpg
ORGANIZER;CN="Colors of Spanish":MAILTO:info@colorsofspanish.com
END:VEVENT
BEGIN:VEVENT
DTSTART;TZID=America/Los_Angeles:20251203T100000
DTEND;TZID=America/Los_Angeles:20251203T103000
DTSTAMP:20260423T163055
CREATED:20251222T030349Z
LAST-MODIFIED:20260410T201522Z
UID:10002204-1764756000-1764757800@www.colorsofspanish.org
SUMMARY:Novato Branch (Marin) – 10:00am
DESCRIPTION:
URL:https://www.colorsofspanish.org/event/novato-branch-marin-1000am/2025-12-03
LOCATION:Novato Library\, 1720 Novato Blvd\, Novato\, CA\, 94947\, United States
CATEGORIES:Storytelling
ATTACH;FMTTYPE=image/png:https://www.colorsofspanish.org/wp-content/uploads/2024/09/marincounty.png
ORGANIZER;CN="Colors of Spanish":MAILTO:info@colorsofspanish.com
END:VEVENT
BEGIN:VEVENT
DTSTART;TZID=America/Los_Angeles:20251209T110000
DTEND;TZID=America/Los_Angeles:20251209T113000
DTSTAMP:20260423T163055
CREATED:20250819T010317Z
LAST-MODIFIED:20250819T010333Z
UID:10002049-1765278000-1765279800@www.colorsofspanish.org
SUMMARY:Windsor Regional Library - 11:00am
DESCRIPTION:
URL:https://www.colorsofspanish.org/event/windsor-library-1100am/2025-12-09
LOCATION:Windsor Regional Library\, 9291 Old Redwood Hwy #100\, Windsor\, CA\, 95492\, United States
CATEGORIES:Storytelling
ATTACH;FMTTYPE=image/jpeg:https://www.colorsofspanish.org/wp-content/uploads/2025/03/SCL_Logo.Biblioteca_CMYK.jpg
ORGANIZER;CN="Colors of Spanish":MAILTO:info@colorsofspanish.com
END:VEVENT
BEGIN:VEVENT
DTSTART;TZID=America/Los_Angeles:20251217T100000
DTEND;TZID=America/Los_Angeles:20251217T103000
DTSTAMP:20260423T163055
CREATED:20251222T030526Z
LAST-MODIFIED:20260410T201604Z
UID:10002208-1765965600-1765967400@www.colorsofspanish.org
SUMMARY:Novato Branch (Marin) – 10:00am
DESCRIPTION:
URL:https://www.colorsofspanish.org/event/novato-branch-marin-1000am-2/2025-12-17
LOCATION:Novato Library\, 1720 Novato Blvd\, Novato\, CA\, 94947\, United States
CATEGORIES:Storytelling
ATTACH;FMTTYPE=image/png:https://www.colorsofspanish.org/wp-content/uploads/2024/09/marincounty.png
ORGANIZER;CN="Colors of Spanish":MAILTO:info@colorsofspanish.com
END:VEVENT
BEGIN:VEVENT
DTSTART;TZID=America/Los_Angeles:20260127T110000
DTEND;TZID=America/Los_Angeles:20260127T113000
DTSTAMP:20260423T163055
CREATED:20250819T010832Z
LAST-MODIFIED:20250819T010832Z
UID:10002066-1769511600-1769513400@www.colorsofspanish.org
SUMMARY:Windsor Regional Library - 11:00am
DESCRIPTION:
URL:https://www.colorsofspanish.org/event/windsor-regional-library-1100am-2/2026-01-27
LOCATION:Windsor Regional Library\, 9291 Old Redwood Hwy #100\, Windsor\, CA\, 95492\, United States
CATEGORIES:Storytelling
ATTACH;FMTTYPE=image/jpeg:https://www.colorsofspanish.org/wp-content/uploads/2025/03/SCL_Logo.Biblioteca_CMYK.jpg
ORGANIZER;CN="Colors of Spanish":MAILTO:info@colorsofspanish.com
END:VEVENT
BEGIN:VEVENT
DTSTART;TZID=America/Los_Angeles:20260213T100000
DTEND;TZID=America/Los_Angeles:20260213T103000
DTSTAMP:20260423T163055
CREATED:20260128T043434Z
LAST-MODIFIED:20260128T043434Z
UID:10002278-1770976800-1770978600@www.colorsofspanish.org
SUMMARY:Larkspur Library (Marin) - 10:00a
DESCRIPTION:
URL:https://www.colorsofspanish.org/event/larkspur-library-marin-1000a
LOCATION:Larkspur Library\, 400 Magnolia Ave\, Larkspur\, CA\, 94939
CATEGORIES:Storytelling
ATTACH;FMTTYPE=image/jpeg:https://www.colorsofspanish.org/wp-content/uploads/2025/09/logo180x90_Larkspur.jpg
ORGANIZER;CN="Colors of Spanish":MAILTO:info@colorsofspanish.com
END:VEVENT
BEGIN:VEVENT
DTSTART;TZID=America/Los_Angeles:20260418T100000
DTEND;TZID=America/Los_Angeles:20260418T103000
DTSTAMP:20260423T163055
CREATED:20260102T200844Z
LAST-MODIFIED:20260121T045752Z
UID:10002274-1776506400-1776508200@www.colorsofspanish.org
SUMMARY:Rancho Feliz (SPARC) - 10:00am
DESCRIPTION:
URL:https://www.colorsofspanish.org/event/las-casitas-de-sonoma202502/2026-04-18
LOCATION:Rancho Feliz\, 6607 Redwood Drive\, Rohnert Park\, CA\, 94928
CATEGORIES:Storytelling
ATTACH;FMTTYPE=image/png:https://www.colorsofspanish.org/wp-content/uploads/2025/12/logo_SPARC.png
ORGANIZER;CN="Colors of Spanish":MAILTO:info@colorsofspanish.com
END:VEVENT
BEGIN:VEVENT
DTSTART;TZID=America/Los_Angeles:20260422T103000
DTEND;TZID=America/Los_Angeles:20260422T110000
DTSTAMP:20260423T163055
CREATED:20260321T143035Z
LAST-MODIFIED:20260321T143035Z
UID:10002299-1776853800-1776855600@www.colorsofspanish.org
SUMMARY:Stinson Beach Library (Marin) - 10:30am
DESCRIPTION:
URL:https://www.colorsofspanish.org/event/stinson-beach-library-marin-1030am
LOCATION:Stinson Beach Library\, 3521 Shoreline Hwy\, Stinson Beach\, CA\, 94970
CATEGORIES:Storytelling
ATTACH;FMTTYPE=image/webp:https://www.colorsofspanish.org/wp-content/uploads/2025/09/logo180x90_MCFL.webp
ORGANIZER;CN="Colors of Spanish":MAILTO:info@colorsofspanish.com
END:VEVENT
BEGIN:VEVENT
DTSTART;TZID=America/Los_Angeles:20260605T100000
DTEND;TZID=America/Los_Angeles:20260605T103000
DTSTAMP:20260423T163055
CREATED:20260409T013043Z
LAST-MODIFIED:20260409T013043Z
UID:10002300-1780653600-1780655400@www.colorsofspanish.org
SUMMARY:Larkspur Library (Marin) - 10:00am
DESCRIPTION:
URL:https://www.colorsofspanish.org/event/larkspur-library-marin-1000am-2/2026-06-05
LOCATION:Larkspur Library\, 400 Magnolia Ave\, Larkspur\, CA\, 94939
CATEGORIES:Storytelling
ATTACH;FMTTYPE=image/jpeg:https://www.colorsofspanish.org/wp-content/uploads/2025/09/logo180x90_Larkspur.jpg
ORGANIZER;CN="Colors of Spanish":MAILTO:info@colorsofspanish.com
END:VEVENT
BEGIN:VEVENT
DTSTART;TZID=America/Los_Angeles:20260622T090000
DTEND;TZID=America/Los_Angeles:20260622T130000
DTSTAMP:20260423T163055
CREATED:20260208T192558Z
LAST-MODIFIED:20260208T200810Z
UID:10002284-1782118800-1782133200@www.colorsofspanish.org
SUMMARY:Summer Spanish Immersion - June 22 - 26 | Petaluma
DESCRIPTION:
URL:https://www.colorsofspanish.org/event/summer-spanish-immersion-petaluma/2026-06-22
LOCATION:Loma Vista Immersion School Facilities.\, 207 Maria Dr.\, Petaluma\, CA\, 94954\, United States
CATEGORIES:Summer Spanish Immersion
ATTACH;FMTTYPE=image/webp:https://www.colorsofspanish.org/wp-content/uploads/2025/02/SSI_202501.webp
ORGANIZER;CN="Colors of Spanish":MAILTO:info@colorsofspanish.com
END:VEVENT
BEGIN:VEVENT
DTSTART;TZID=America/Los_Angeles:20260627T133000
DTEND;TZID=America/Los_Angeles:20260627T140000
DTSTAMP:20260423T163055
CREATED:20260409T021202Z
LAST-MODIFIED:20260409T021202Z
UID:10002302-1782567000-1782568800@www.colorsofspanish.org
SUMMARY:Children's Fairyland (Oakland) - 1:30pm
DESCRIPTION:
URL:https://www.colorsofspanish.org/event/childrens-fairyland-oakland-130pm/2026-06-27
LOCATION:Children’s Fairyland\, 699 Bellevue Ave\, Oakland\, CA\, 94610
CATEGORIES:Storytelling
ATTACH;FMTTYPE=image/webp:https://www.colorsofspanish.org/wp-content/uploads/2026/04/logo_Fairyland-1.png
ORGANIZER;CN="Colors of Spanish":MAILTO:info@colorsofspanish.com
END:VEVENT
BEGIN:VEVENT
DTSTART;TZID=America/Los_Angeles:20260627T143000
DTEND;TZID=America/Los_Angeles:20260627T150000
DTSTAMP:20260423T163055
CREATED:20260409T021523Z
LAST-MODIFIED:20260409T021523Z
UID:10002308-1782570600-1782572400@www.colorsofspanish.org
SUMMARY:Children's Fairyland (Oakland) - 2:30pm
DESCRIPTION:
URL:https://www.colorsofspanish.org/event/childrens-fairyland-oakland-230pm/2026-06-27
LOCATION:Children’s Fairyland\, 699 Bellevue Ave\, Oakland\, CA\, 94610
CATEGORIES:Storytelling
ATTACH;FMTTYPE=image/webp:https://www.colorsofspanish.org/wp-content/uploads/2026/04/logo_Fairyland-1.png
ORGANIZER;CN="Colors of Spanish":MAILTO:info@colorsofspanish.com
END:VEVENT
BEGIN:VEVENT
DTSTART;TZID=America/Los_Angeles:20260713T090000
DTEND;TZID=America/Los_Angeles:20260713T130000
DTSTAMP:20260423T163055
CREATED:20260213T004641Z
LAST-MODIFIED:20260213T004641Z
UID:10002294-1783933200-1783947600@www.colorsofspanish.org
SUMMARY:Summer Spanish Immersion - July 13 - 17 | Petaluma
DESCRIPTION:
URL:https://www.colorsofspanish.org/event/summer-spanish-immersion-july-13-17-petaluma/2026-07-13
LOCATION:Loma Vista Immersion School Facilities.\, 207 Maria Dr.\, Petaluma\, CA\, 94954\, United States
CATEGORIES:Summer Spanish Immersion
ATTACH;FMTTYPE=image/webp:https://www.colorsofspanish.org/wp-content/uploads/2025/02/SSI_202501.webp
ORGANIZER;CN="Colors of Spanish":MAILTO:info@colorsofspanish.com
END:VEVENT
END:VCALENDAR