BEGIN:VCALENDAR
VERSION:2.0
PRODID:-//Colors of Spanish - ECPv6.15.20//NONSGML v1.0//EN
CALSCALE:GREGORIAN
METHOD:PUBLISH
X-WR-CALNAME:Colors of Spanish
X-ORIGINAL-URL:https://www.colorsofspanish.org
X-WR-CALDESC:Events for Colors of Spanish
REFRESH-INTERVAL;VALUE=DURATION:PT1H
X-Robots-Tag:noindex
X-PUBLISHED-TTL:PT1H
BEGIN:VTIMEZONE
TZID:America/Los_Angeles
BEGIN:DAYLIGHT
TZOFFSETFROM:-0800
TZOFFSETTO:-0700
TZNAME:PDT
DTSTART:20250309T100000
END:DAYLIGHT
BEGIN:STANDARD
TZOFFSETFROM:-0700
TZOFFSETTO:-0800
TZNAME:PST
DTSTART:20251102T090000
END:STANDARD
BEGIN:DAYLIGHT
TZOFFSETFROM:-0800
TZOFFSETTO:-0700
TZNAME:PDT
DTSTART:20260308T100000
END:DAYLIGHT
BEGIN:STANDARD
TZOFFSETFROM:-0700
TZOFFSETTO:-0800
TZNAME:PST
DTSTART:20261101T090000
END:STANDARD
BEGIN:DAYLIGHT
TZOFFSETFROM:-0800
TZOFFSETTO:-0700
TZNAME:PDT
DTSTART:20270314T100000
END:DAYLIGHT
BEGIN:STANDARD
TZOFFSETFROM:-0700
TZOFFSETTO:-0800
TZNAME:PST
DTSTART:20271107T090000
END:STANDARD
END:VTIMEZONE
BEGIN:VEVENT
DTSTART;TZID=America/Los_Angeles:20260805T111500
DTEND;TZID=America/Los_Angeles:20260805T114500
DTSTAMP:20260423T163049
CREATED:20250618T040200Z
LAST-MODIFIED:20251222T024549Z
UID:10002150-1785928500-1785930300@www.colorsofspanish.org
SUMMARY:South Novato Branch (Marin) - 11:15am
DESCRIPTION:
URL:https://www.colorsofspanish.org/event/south-novato-branch-marin-1115am-2/2026-08-05
LOCATION:South Novato Library\, 931 C St\, Novato\, CA\, 94949\, United States
CATEGORIES:Storytelling
ATTACH;FMTTYPE=image/png:https://www.colorsofspanish.org/wp-content/uploads/2024/09/marincounty.png
ORGANIZER;CN="Colors of Spanish":MAILTO:info@colorsofspanish.com
END:VEVENT
BEGIN:VEVENT
DTSTART;TZID=America/Los_Angeles:20260807T133000
DTEND;TZID=America/Los_Angeles:20260807T140000
DTSTAMP:20260423T163049
CREATED:20260409T021202Z
LAST-MODIFIED:20260409T021202Z
UID:10002304-1786109400-1786111200@www.colorsofspanish.org
SUMMARY:Children's Fairyland (Oakland) - 1:30pm
DESCRIPTION:
URL:https://www.colorsofspanish.org/event/childrens-fairyland-oakland-130pm/2026-08-07
LOCATION:Children’s Fairyland\, 699 Bellevue Ave\, Oakland\, CA\, 94610
CATEGORIES:Storytelling
ATTACH;FMTTYPE=image/webp:https://www.colorsofspanish.org/wp-content/uploads/2026/04/logo_Fairyland-1.png
ORGANIZER;CN="Colors of Spanish":MAILTO:info@colorsofspanish.com
END:VEVENT
BEGIN:VEVENT
DTSTART;TZID=America/Los_Angeles:20260807T143000
DTEND;TZID=America/Los_Angeles:20260807T150000
DTSTAMP:20260423T163049
CREATED:20260409T021523Z
LAST-MODIFIED:20260409T021523Z
UID:10002310-1786113000-1786114800@www.colorsofspanish.org
SUMMARY:Children's Fairyland (Oakland) - 2:30pm
DESCRIPTION:
URL:https://www.colorsofspanish.org/event/childrens-fairyland-oakland-230pm/2026-08-07
LOCATION:Children’s Fairyland\, 699 Bellevue Ave\, Oakland\, CA\, 94610
CATEGORIES:Storytelling
ATTACH;FMTTYPE=image/webp:https://www.colorsofspanish.org/wp-content/uploads/2026/04/logo_Fairyland-1.png
ORGANIZER;CN="Colors of Spanish":MAILTO:info@colorsofspanish.com
END:VEVENT
BEGIN:VEVENT
DTSTART;TZID=America/Los_Angeles:20260819T111500
DTEND;TZID=America/Los_Angeles:20260819T114500
DTSTAMP:20260423T163049
CREATED:20250618T034658Z
LAST-MODIFIED:20251222T024837Z
UID:10002162-1787138100-1787139900@www.colorsofspanish.org
SUMMARY:South Novato Branch (Marin) - 11:15am
DESCRIPTION:
URL:https://www.colorsofspanish.org/event/south-novato-branch-marin-1115am/2026-08-19
LOCATION:South Novato Library\, 931 C St\, Novato\, CA\, 94949\, United States
CATEGORIES:Storytelling
ATTACH;FMTTYPE=image/png:https://www.colorsofspanish.org/wp-content/uploads/2024/09/marincounty.png
ORGANIZER;CN="Colors of Spanish":MAILTO:info@colorsofspanish.com
END:VEVENT
END:VCALENDAR