BEGIN:VCALENDAR
VERSION:2.0
PRODID:-//Colors of Spanish - ECPv6.15.20//NONSGML v1.0//EN
CALSCALE:GREGORIAN
METHOD:PUBLISH
X-WR-CALNAME:Colors of Spanish
X-ORIGINAL-URL:https://www.colorsofspanish.org
X-WR-CALDESC:Events for Colors of Spanish
REFRESH-INTERVAL;VALUE=DURATION:PT1H
X-Robots-Tag:noindex
X-PUBLISHED-TTL:PT1H
BEGIN:VTIMEZONE
TZID:America/Los_Angeles
BEGIN:DAYLIGHT
TZOFFSETFROM:-0800
TZOFFSETTO:-0700
TZNAME:PDT
DTSTART:20240310T100000
END:DAYLIGHT
BEGIN:STANDARD
TZOFFSETFROM:-0700
TZOFFSETTO:-0800
TZNAME:PST
DTSTART:20241103T090000
END:STANDARD
BEGIN:DAYLIGHT
TZOFFSETFROM:-0800
TZOFFSETTO:-0700
TZNAME:PDT
DTSTART:20250309T100000
END:DAYLIGHT
BEGIN:STANDARD
TZOFFSETFROM:-0700
TZOFFSETTO:-0800
TZNAME:PST
DTSTART:20251102T090000
END:STANDARD
BEGIN:DAYLIGHT
TZOFFSETFROM:-0800
TZOFFSETTO:-0700
TZNAME:PDT
DTSTART:20260308T100000
END:DAYLIGHT
BEGIN:STANDARD
TZOFFSETFROM:-0700
TZOFFSETTO:-0800
TZNAME:PST
DTSTART:20261101T090000
END:STANDARD
END:VTIMEZONE
BEGIN:VEVENT
DTSTART;TZID=America/Los_Angeles:20251022T103000
DTEND;TZID=America/Los_Angeles:20251022T110000
DTSTAMP:20260423T162721
CREATED:20250819T011456Z
LAST-MODIFIED:20250919T175507Z
UID:10002082-1761129000-1761130800@www.colorsofspanish.org
SUMMARY:Rincon Valley Regional Library - 10:30am
DESCRIPTION:
URL:https://www.colorsofspanish.org/event/rincon-valley-regional-library-1030am-2/2025-10-22
LOCATION:Rincon Valley Regional Library\, 6959 Montecito Blvd\, Santa Rosa\, CA\, 95409\, United States
CATEGORIES:Storytelling
ATTACH;FMTTYPE=image/jpeg:https://www.colorsofspanish.org/wp-content/uploads/2025/03/SCL_Logo.Biblioteca_CMYK.jpg
ORGANIZER;CN="Colors of Spanish":MAILTO:info@colorsofspanish.com
END:VEVENT
BEGIN:VEVENT
DTSTART;TZID=America/Los_Angeles:20251023T103000
DTEND;TZID=America/Los_Angeles:20251023T110000
DTSTAMP:20260423T162721
CREATED:20250810T233242Z
LAST-MODIFIED:20250810T233242Z
UID:10001994-1761215400-1761217200@www.colorsofspanish.org
SUMMARY:Children’s Museum of Sonoma County – 10:30am
DESCRIPTION:
URL:https://www.colorsofspanish.org/event/childrens-museum-of-sonoma-county-1030am/2025-10-23
LOCATION:Children’s Museum of Sonoma County\, 1835 W Steele Ln\, Santa Rosa\, CA\, 95403\, United States
CATEGORIES:Storytelling
ATTACH;FMTTYPE=image/jpeg:https://www.colorsofspanish.org/wp-content/uploads/2025/03/CMOSC_logo.jpeg
ORGANIZER;CN="Colors of Spanish":MAILTO:info@colorsofspanish.com
END:VEVENT
BEGIN:VEVENT
DTSTART;TZID=America/Los_Angeles:20251025T100000
DTEND;TZID=America/Los_Angeles:20251025T103000
DTSTAMP:20260423T162721
CREATED:20250819T012055Z
LAST-MODIFIED:20250819T012055Z
UID:10002107-1761386400-1761388200@www.colorsofspanish.org
SUMMARY:Rohnert Park / Cotati Regional Library - 10:00am
DESCRIPTION:
URL:https://www.colorsofspanish.org/event/rohnert-park-cotati-regional-library-1000am/2025-10-25
LOCATION:Rohnert Park / Cotati Regional Library\, 6250 Lynne Conde Way\, Rohnert Park\, CA\, 94928\, United States
CATEGORIES:Storytelling
ATTACH;FMTTYPE=image/jpeg:https://www.colorsofspanish.org/wp-content/uploads/2025/03/SCL_Logo.Biblioteca_CMYK.jpg
ORGANIZER;CN="Colors of Spanish":MAILTO:info@colorsofspanish.com
END:VEVENT
BEGIN:VEVENT
DTSTART;TZID=America/Los_Angeles:20251025T103000
DTEND;TZID=America/Los_Angeles:20251025T110000
DTSTAMP:20260423T162721
CREATED:20250819T012528Z
LAST-MODIFIED:20250819T012528Z
UID:10002119-1761388200-1761390000@www.colorsofspanish.org
SUMMARY:Central Library (Santa Rosa) - 10:30am
DESCRIPTION:
URL:https://www.colorsofspanish.org/event/central-library-santa-rosa-1030am/2025-10-25
LOCATION:Santa Rosa Central Library\, 211 E St\, Santa Rosa\, CA\, 95404\, United States
CATEGORIES:Storytelling
ATTACH;FMTTYPE=image/jpeg:https://www.colorsofspanish.org/wp-content/uploads/2025/03/SCL_Logo.Biblioteca_CMYK.jpg
ORGANIZER;CN="Colors of Spanish":MAILTO:info@colorsofspanish.com
END:VEVENT
BEGIN:VEVENT
DTSTART;TZID=America/Los_Angeles:20251027T101500
DTEND;TZID=America/Los_Angeles:20251027T104500
DTSTAMP:20260423T162721
CREATED:20250618T035531Z
LAST-MODIFIED:20251222T025425Z
UID:10001949-1761560100-1761561900@www.colorsofspanish.org
SUMMARY:Mill Valley Library - 10:15am
DESCRIPTION:
URL:https://www.colorsofspanish.org/event/mill-valley-library-1015am/2025-10-27
LOCATION:Mill Valley Public Library\, 375 Throckmorton Ave\, Mill Valley\, CA\, 94941
CATEGORIES:Storytelling
ATTACH;FMTTYPE=image/jpeg:https://www.colorsofspanish.org/wp-content/uploads/2025/03/logo_Mill_Valley_Library_square-1.jpg
ORGANIZER;CN="Colors of Spanish":MAILTO:info@colorsofspanish.com
END:VEVENT
BEGIN:VEVENT
DTSTART;TZID=America/Los_Angeles:20251027T113000
DTEND;TZID=America/Los_Angeles:20251027T120000
DTSTAMP:20260423T162721
CREATED:20250819T012703Z
LAST-MODIFIED:20260102T200026Z
UID:10002128-1761564600-1761566400@www.colorsofspanish.org
SUMMARY:Roseland Regional Library - 11:30am
DESCRIPTION:
URL:https://www.colorsofspanish.org/event/roseland-regional-library-1130am/2025-10-27
LOCATION:Roseland Regional Library\, 470 Sebastopol Rd\, Santa Rosa\, CA\, 95407\, United States
CATEGORIES:Storytelling
ATTACH;FMTTYPE=image/jpeg:https://www.colorsofspanish.org/wp-content/uploads/2025/03/SCL_Logo.Biblioteca_CMYK.jpg
ORGANIZER;CN="Colors of Spanish":MAILTO:info@colorsofspanish.com
END:VEVENT
BEGIN:VEVENT
DTSTART;TZID=America/Los_Angeles:20251028T090000
DTEND;TZID=America/Los_Angeles:20251028T100000
DTSTAMP:20260423T162721
CREATED:20250616T154815Z
LAST-MODIFIED:20250616T154815Z
UID:10001877-1761642000-1761645600@www.colorsofspanish.org
SUMMARY:Civic Center Library - 9:30am
DESCRIPTION:
URL:https://www.colorsofspanish.org/event/civic_202508/2025-10-28
LOCATION:Marin Civic Center Public Library\, 350 Civic Center Dr\, San Rafael\, CA\, 94903
CATEGORIES:Storytelling
ATTACH;FMTTYPE=image/png:https://www.colorsofspanish.org/wp-content/uploads/2024/09/marincounty.png
ORGANIZER;CN="Colors of Spanish":MAILTO:info@colorsofspanish.com
END:VEVENT
BEGIN:VEVENT
DTSTART;TZID=America/Los_Angeles:20251028T110000
DTEND;TZID=America/Los_Angeles:20251028T113000
DTSTAMP:20260423T162721
CREATED:20250819T010832Z
LAST-MODIFIED:20250819T010832Z
UID:10002065-1761649200-1761651000@www.colorsofspanish.org
SUMMARY:Windsor Regional Library - 11:00am
DESCRIPTION:
URL:https://www.colorsofspanish.org/event/windsor-regional-library-1100am-2/2025-10-28
LOCATION:Windsor Regional Library\, 9291 Old Redwood Hwy #100\, Windsor\, CA\, 95492\, United States
CATEGORIES:Storytelling
ATTACH;FMTTYPE=image/jpeg:https://www.colorsofspanish.org/wp-content/uploads/2025/03/SCL_Logo.Biblioteca_CMYK.jpg
ORGANIZER;CN="Colors of Spanish":MAILTO:info@colorsofspanish.com
END:VEVENT
BEGIN:VEVENT
DTSTART;TZID=America/Los_Angeles:20251030T103000
DTEND;TZID=America/Los_Angeles:20251030T110000
DTSTAMP:20260423T162721
CREATED:20250810T233242Z
LAST-MODIFIED:20250810T233242Z
UID:10001995-1761820200-1761822000@www.colorsofspanish.org
SUMMARY:Children’s Museum of Sonoma County – 10:30am
DESCRIPTION:
URL:https://www.colorsofspanish.org/event/childrens-museum-of-sonoma-county-1030am/2025-10-30
LOCATION:Children’s Museum of Sonoma County\, 1835 W Steele Ln\, Santa Rosa\, CA\, 95403\, United States
CATEGORIES:Storytelling
ATTACH;FMTTYPE=image/jpeg:https://www.colorsofspanish.org/wp-content/uploads/2025/03/CMOSC_logo.jpeg
ORGANIZER;CN="Colors of Spanish":MAILTO:info@colorsofspanish.com
END:VEVENT
END:VCALENDAR