BEGIN:VCALENDAR
VERSION:2.0
PRODID:-//Colors of Spanish - ECPv6.15.20//NONSGML v1.0//EN
CALSCALE:GREGORIAN
METHOD:PUBLISH
X-WR-CALNAME:Colors of Spanish
X-ORIGINAL-URL:https://www.colorsofspanish.org
X-WR-CALDESC:Events for Colors of Spanish
REFRESH-INTERVAL;VALUE=DURATION:PT1H
X-Robots-Tag:noindex
X-PUBLISHED-TTL:PT1H
BEGIN:VTIMEZONE
TZID:America/Los_Angeles
BEGIN:DAYLIGHT
TZOFFSETFROM:-0800
TZOFFSETTO:-0700
TZNAME:PDT
DTSTART:20250309T100000
END:DAYLIGHT
BEGIN:STANDARD
TZOFFSETFROM:-0700
TZOFFSETTO:-0800
TZNAME:PST
DTSTART:20251102T090000
END:STANDARD
BEGIN:DAYLIGHT
TZOFFSETFROM:-0800
TZOFFSETTO:-0700
TZNAME:PDT
DTSTART:20260308T100000
END:DAYLIGHT
BEGIN:STANDARD
TZOFFSETFROM:-0700
TZOFFSETTO:-0800
TZNAME:PST
DTSTART:20261101T090000
END:STANDARD
BEGIN:DAYLIGHT
TZOFFSETFROM:-0800
TZOFFSETTO:-0700
TZNAME:PDT
DTSTART:20270314T100000
END:DAYLIGHT
BEGIN:STANDARD
TZOFFSETFROM:-0700
TZOFFSETTO:-0800
TZNAME:PST
DTSTART:20271107T090000
END:STANDARD
END:VTIMEZONE
BEGIN:VEVENT
DTSTART;TZID=America/Los_Angeles:20260103T100000
DTEND;TZID=America/Los_Angeles:20260103T103000
DTSTAMP:20260423T112025
CREATED:20250819T011634Z
LAST-MODIFIED:20250819T011634Z
UID:10002092-1767434400-1767436200@www.colorsofspanish.org
SUMMARY:Petaluma Regional Library - 10:00am
DESCRIPTION:
URL:https://www.colorsofspanish.org/event/petaluma-regional-library-1000am-2/2026-01-03
LOCATION:Petaluma Regional Library\, 100 Fairgrounds Dr\, Petaluma\, CA\, 94952\, United States
CATEGORIES:Storytelling
ATTACH;FMTTYPE=image/jpeg:https://www.colorsofspanish.org/wp-content/uploads/2025/03/SCL_Logo.Biblioteca_CMYK.jpg
ORGANIZER;CN="Colors of Spanish":MAILTO:info@colorsofspanish.com
END:VEVENT
BEGIN:VEVENT
DTSTART;TZID=America/Los_Angeles:20260105T101500
DTEND;TZID=America/Los_Angeles:20260105T104500
DTSTAMP:20260423T112025
CREATED:20250618T035531Z
LAST-MODIFIED:20251222T025425Z
UID:10002181-1767608100-1767609900@www.colorsofspanish.org
SUMMARY:Mill Valley Library - 10:15am
DESCRIPTION:
URL:https://www.colorsofspanish.org/event/mill-valley-library-1015am/2026-01-05
LOCATION:Mill Valley Public Library\, 375 Throckmorton Ave\, Mill Valley\, CA\, 94941
CATEGORIES:Storytelling
ATTACH;FMTTYPE=image/jpeg:https://www.colorsofspanish.org/wp-content/uploads/2025/03/logo_Mill_Valley_Library_square-1.jpg
ORGANIZER;CN="Colors of Spanish":MAILTO:info@colorsofspanish.com
END:VEVENT
BEGIN:VEVENT
DTSTART;TZID=America/Los_Angeles:20260106T103000
DTEND;TZID=America/Los_Angeles:20260106T110000
DTSTAMP:20260423T112025
CREATED:20250819T010037Z
LAST-MODIFIED:20250819T010037Z
UID:10002042-1767695400-1767697200@www.colorsofspanish.org
SUMMARY:Cloverdale Regional Library - 10:30am
DESCRIPTION:
URL:https://www.colorsofspanish.org/event/cloverdale-regional-library-1030am/2026-01-06
LOCATION:Cloverdale Regional Library\, 401 N Cloverdale Blvd\, Cloverdale\, CA\, 95425
CATEGORIES:Storytelling
ATTACH;FMTTYPE=image/jpeg:https://www.colorsofspanish.org/wp-content/uploads/2025/03/SCL_Logo.Biblioteca_CMYK.jpg
ORGANIZER;CN="Colors of Spanish":MAILTO:info@colorsofspanish.com
END:VEVENT
BEGIN:VEVENT
DTSTART;TZID=America/Los_Angeles:20260106T110000
DTEND;TZID=America/Los_Angeles:20260106T113000
DTSTAMP:20260423T112025
CREATED:20250819T005812Z
LAST-MODIFIED:20250819T005812Z
UID:10002033-1767697200-1767699000@www.colorsofspanish.org
SUMMARY:Healdsburg Regional Library - 11:00am
DESCRIPTION:
URL:https://www.colorsofspanish.org/event/healdsburg-regional-library-1100am-2/2026-01-06
LOCATION:Healdsburg Regional Library\, 139 Piper St\,\, Healdsburg CA\, CA\, 95448\, United States
CATEGORIES:Storytelling
ATTACH;FMTTYPE=image/jpeg:https://www.colorsofspanish.org/wp-content/uploads/2025/03/SCL_Logo.Biblioteca_CMYK.jpg
ORGANIZER;CN="Colors of Spanish":MAILTO:info@colorsofspanish.com
END:VEVENT
BEGIN:VEVENT
DTSTART;TZID=America/Los_Angeles:20260107T100000
DTEND;TZID=America/Los_Angeles:20260107T103000
DTSTAMP:20260423T112025
CREATED:20251222T030349Z
LAST-MODIFIED:20260410T201522Z
UID:10002205-1767780000-1767781800@www.colorsofspanish.org
SUMMARY:Novato Branch (Marin) – 10:00am
DESCRIPTION:
URL:https://www.colorsofspanish.org/event/novato-branch-marin-1000am/2026-01-07
LOCATION:Novato Library\, 1720 Novato Blvd\, Novato\, CA\, 94947\, United States
CATEGORIES:Storytelling
ATTACH;FMTTYPE=image/png:https://www.colorsofspanish.org/wp-content/uploads/2024/09/marincounty.png
ORGANIZER;CN="Colors of Spanish":MAILTO:info@colorsofspanish.com
END:VEVENT
BEGIN:VEVENT
DTSTART;TZID=America/Los_Angeles:20260107T111500
DTEND;TZID=America/Los_Angeles:20260107T114500
DTSTAMP:20260423T112025
CREATED:20250618T040200Z
LAST-MODIFIED:20251222T024549Z
UID:10002143-1767784500-1767786300@www.colorsofspanish.org
SUMMARY:South Novato Branch (Marin) - 11:15am
DESCRIPTION:
URL:https://www.colorsofspanish.org/event/south-novato-branch-marin-1115am-2/2026-01-07
LOCATION:South Novato Library\, 931 C St\, Novato\, CA\, 94949\, United States
CATEGORIES:Storytelling
ATTACH;FMTTYPE=image/png:https://www.colorsofspanish.org/wp-content/uploads/2024/09/marincounty.png
ORGANIZER;CN="Colors of Spanish":MAILTO:info@colorsofspanish.com
END:VEVENT
BEGIN:VEVENT
DTSTART;TZID=America/Los_Angeles:20260108T103000
DTEND;TZID=America/Los_Angeles:20260108T110000
DTSTAMP:20260423T112025
CREATED:20250810T233242Z
LAST-MODIFIED:20250810T233242Z
UID:10002002-1767868200-1767870000@www.colorsofspanish.org
SUMMARY:Children’s Museum of Sonoma County – 10:30am
DESCRIPTION:
URL:https://www.colorsofspanish.org/event/childrens-museum-of-sonoma-county-1030am/2026-01-08
LOCATION:Children’s Museum of Sonoma County\, 1835 W Steele Ln\, Santa Rosa\, CA\, 95403\, United States
CATEGORIES:Storytelling
ATTACH;FMTTYPE=image/jpeg:https://www.colorsofspanish.org/wp-content/uploads/2025/03/CMOSC_logo.jpeg
ORGANIZER;CN="Colors of Spanish":MAILTO:info@colorsofspanish.com
END:VEVENT
BEGIN:VEVENT
DTSTART;TZID=America/Los_Angeles:20260110T100000
DTEND;TZID=America/Los_Angeles:20260110T103000
DTSTAMP:20260423T112025
CREATED:20250810T232906Z
LAST-MODIFIED:20250810T232906Z
UID:10001969-1768039200-1768041000@www.colorsofspanish.org
SUMMARY:Children’s Museum of Sonoma County – 10:00am
DESCRIPTION:
URL:https://www.colorsofspanish.org/event/childrens-museum-of-sonoma-county-1000am-2/2026-01-10
LOCATION:Children’s Museum of Sonoma County\, 1835 W Steele Ln\, Santa Rosa\, CA\, 95403\, United States
CATEGORIES:Storytelling
ATTACH;FMTTYPE=image/jpeg:https://www.colorsofspanish.org/wp-content/uploads/2025/03/CMOSC_logo.jpeg
ORGANIZER;CN="Colors of Spanish":MAILTO:info@colorsofspanish.com
END:VEVENT
BEGIN:VEVENT
DTSTART;TZID=America/Los_Angeles:20260110T113000
DTEND;TZID=America/Los_Angeles:20260110T120000
DTSTAMP:20260423T112025
CREATED:20250819T011823Z
LAST-MODIFIED:20250819T011823Z
UID:10002101-1768044600-1768046400@www.colorsofspanish.org
SUMMARY:Northwest Library (Santa Rosa) - 11:30am
DESCRIPTION:
URL:https://www.colorsofspanish.org/event/northwest-library-santa-rosa-1130am/2026-01-10
LOCATION:Northwest Santa Rosa Library\, 150 Coddingtown Center\, Santa Rosa\, CA\, 95401
CATEGORIES:Storytelling
ATTACH;FMTTYPE=image/jpeg:https://www.colorsofspanish.org/wp-content/uploads/2025/03/SCL_Logo.Biblioteca_CMYK.jpg
ORGANIZER;CN="Colors of Spanish":MAILTO:info@colorsofspanish.com
END:VEVENT
BEGIN:VEVENT
DTSTART;TZID=America/Los_Angeles:20260112T101500
DTEND;TZID=America/Los_Angeles:20260112T104500
DTSTAMP:20260423T112025
CREATED:20250618T035531Z
LAST-MODIFIED:20251222T025425Z
UID:10002182-1768212900-1768214700@www.colorsofspanish.org
SUMMARY:Mill Valley Library - 10:15am
DESCRIPTION:
URL:https://www.colorsofspanish.org/event/mill-valley-library-1015am/2026-01-12
LOCATION:Mill Valley Public Library\, 375 Throckmorton Ave\, Mill Valley\, CA\, 94941
CATEGORIES:Storytelling
ATTACH;FMTTYPE=image/jpeg:https://www.colorsofspanish.org/wp-content/uploads/2025/03/logo_Mill_Valley_Library_square-1.jpg
ORGANIZER;CN="Colors of Spanish":MAILTO:info@colorsofspanish.com
END:VEVENT
BEGIN:VEVENT
DTSTART;TZID=America/Los_Angeles:20260113T110000
DTEND;TZID=America/Los_Angeles:20260113T113000
DTSTAMP:20260423T112025
CREATED:20250819T010317Z
LAST-MODIFIED:20250819T010333Z
UID:10002050-1768302000-1768303800@www.colorsofspanish.org
SUMMARY:Windsor Regional Library - 11:00am
DESCRIPTION:
URL:https://www.colorsofspanish.org/event/windsor-library-1100am/2026-01-13
LOCATION:Windsor Regional Library\, 9291 Old Redwood Hwy #100\, Windsor\, CA\, 95492\, United States
CATEGORIES:Storytelling
ATTACH;FMTTYPE=image/jpeg:https://www.colorsofspanish.org/wp-content/uploads/2025/03/SCL_Logo.Biblioteca_CMYK.jpg
ORGANIZER;CN="Colors of Spanish":MAILTO:info@colorsofspanish.com
END:VEVENT
BEGIN:VEVENT
DTSTART;TZID=America/Los_Angeles:20260115T103000
DTEND;TZID=America/Los_Angeles:20260115T110000
DTSTAMP:20260423T112025
CREATED:20250810T233242Z
LAST-MODIFIED:20250810T233242Z
UID:10002003-1768473000-1768474800@www.colorsofspanish.org
SUMMARY:Children’s Museum of Sonoma County – 10:30am
DESCRIPTION:
URL:https://www.colorsofspanish.org/event/childrens-museum-of-sonoma-county-1030am/2026-01-15
LOCATION:Children’s Museum of Sonoma County\, 1835 W Steele Ln\, Santa Rosa\, CA\, 95403\, United States
CATEGORIES:Storytelling
ATTACH;FMTTYPE=image/jpeg:https://www.colorsofspanish.org/wp-content/uploads/2025/03/CMOSC_logo.jpeg
ORGANIZER;CN="Colors of Spanish":MAILTO:info@colorsofspanish.com
END:VEVENT
BEGIN:VEVENT
DTSTART;TZID=America/Los_Angeles:20260117T100000
DTEND;TZID=America/Los_Angeles:20260117T103000
DTSTAMP:20260423T112025
CREATED:20250810T232906Z
LAST-MODIFIED:20250810T232906Z
UID:10001970-1768644000-1768645800@www.colorsofspanish.org
SUMMARY:Children’s Museum of Sonoma County – 10:00am
DESCRIPTION:
URL:https://www.colorsofspanish.org/event/childrens-museum-of-sonoma-county-1000am-2/2026-01-17
LOCATION:Children’s Museum of Sonoma County\, 1835 W Steele Ln\, Santa Rosa\, CA\, 95403\, United States
CATEGORIES:Storytelling
ATTACH;FMTTYPE=image/jpeg:https://www.colorsofspanish.org/wp-content/uploads/2025/03/CMOSC_logo.jpeg
ORGANIZER;CN="Colors of Spanish":MAILTO:info@colorsofspanish.com
END:VEVENT
BEGIN:VEVENT
DTSTART;TZID=America/Los_Angeles:20260117T100000
DTEND;TZID=America/Los_Angeles:20260117T103000
DTSTAMP:20260423T112025
CREATED:20250819T012055Z
LAST-MODIFIED:20250819T012055Z
UID:10002110-1768644000-1768645800@www.colorsofspanish.org
SUMMARY:Rohnert Park / Cotati Regional Library - 10:00am
DESCRIPTION:
URL:https://www.colorsofspanish.org/event/rohnert-park-cotati-regional-library-1000am/2026-01-17
LOCATION:Rohnert Park / Cotati Regional Library\, 6250 Lynne Conde Way\, Rohnert Park\, CA\, 94928\, United States
CATEGORIES:Storytelling
ATTACH;FMTTYPE=image/jpeg:https://www.colorsofspanish.org/wp-content/uploads/2025/03/SCL_Logo.Biblioteca_CMYK.jpg
ORGANIZER;CN="Colors of Spanish":MAILTO:info@colorsofspanish.com
END:VEVENT
BEGIN:VEVENT
DTSTART;TZID=America/Los_Angeles:20260120T110000
DTEND;TZID=America/Los_Angeles:20260120T113000
DTSTAMP:20260423T112025
CREATED:20250819T010628Z
LAST-MODIFIED:20250819T010628Z
UID:10002059-1768906800-1768908600@www.colorsofspanish.org
SUMMARY:Sonoma Valley Regional Library - 11:00am
DESCRIPTION:
URL:https://www.colorsofspanish.org/event/sonoma-valley-regional-library-1100am-2/2026-01-20
LOCATION:Sonoma Regional LIbrary\, 755 W Napa St\, Sonoma\, CA\, 95476\, United States
CATEGORIES:Storytelling
ATTACH;FMTTYPE=image/jpeg:https://www.colorsofspanish.org/wp-content/uploads/2025/03/SCL_Logo.Biblioteca_CMYK.jpg
ORGANIZER;CN="Colors of Spanish":MAILTO:info@colorsofspanish.com
END:VEVENT
BEGIN:VEVENT
DTSTART;TZID=America/Los_Angeles:20260121T100000
DTEND;TZID=America/Los_Angeles:20260121T103000
DTSTAMP:20260423T112025
CREATED:20250618T041500Z
LAST-MODIFIED:20250618T041500Z
UID:10001921-1768989600-1768991400@www.colorsofspanish.org
SUMMARY:Café Puente (Petaluma) - 10:00am
DESCRIPTION:
URL:https://www.colorsofspanish.org/event/cafe-puente-petaluma-1000am-2/2026-01-21
LOCATION:Café Puente\, 610 E Washington St #C\, Petaluma\, CA\, 94952\, United States
CATEGORIES:Storytelling
ATTACH;FMTTYPE=image/jpeg:https://www.colorsofspanish.org/wp-content/uploads/2024/08/LogoCAfePuente-scaled.jpg
ORGANIZER;CN="Colors of Spanish":MAILTO:info@colorsofspanish.com
END:VEVENT
BEGIN:VEVENT
DTSTART;TZID=America/Los_Angeles:20260121T100000
DTEND;TZID=America/Los_Angeles:20260121T103000
DTSTAMP:20260423T112025
CREATED:20251222T030526Z
LAST-MODIFIED:20260410T201604Z
UID:10002209-1768989600-1768991400@www.colorsofspanish.org
SUMMARY:Novato Branch (Marin) – 10:00am
DESCRIPTION:
URL:https://www.colorsofspanish.org/event/novato-branch-marin-1000am-2/2026-01-21
LOCATION:Novato Library\, 1720 Novato Blvd\, Novato\, CA\, 94947\, United States
CATEGORIES:Storytelling
ATTACH;FMTTYPE=image/png:https://www.colorsofspanish.org/wp-content/uploads/2024/09/marincounty.png
ORGANIZER;CN="Colors of Spanish":MAILTO:info@colorsofspanish.com
END:VEVENT
BEGIN:VEVENT
DTSTART;TZID=America/Los_Angeles:20260121T103000
DTEND;TZID=America/Los_Angeles:20260121T110000
DTSTAMP:20260423T112025
CREATED:20251003T004014Z
LAST-MODIFIED:20251222T031746Z
UID:10002211-1768991400-1768993200@www.colorsofspanish.org
SUMMARY:Inverness Library (Marin) - 10:30am
DESCRIPTION:
URL:https://www.colorsofspanish.org/event/inverness-library-marin-1030am/2026-01-21
LOCATION:Inverness Library\, 15 Park Ave\, Inverness\, CA\, 94937\, United States
CATEGORIES:Storytelling
ATTACH;FMTTYPE=image/png:https://www.colorsofspanish.org/wp-content/uploads/2024/09/marincounty.png
ORGANIZER;CN="Colors of Spanish":MAILTO:info@colorsofspanish.com
END:VEVENT
BEGIN:VEVENT
DTSTART;TZID=America/Los_Angeles:20260121T111500
DTEND;TZID=America/Los_Angeles:20260121T114500
DTSTAMP:20260423T112025
CREATED:20250618T034658Z
LAST-MODIFIED:20251222T024837Z
UID:10002155-1768994100-1768995900@www.colorsofspanish.org
SUMMARY:South Novato Branch (Marin) - 11:15am
DESCRIPTION:
URL:https://www.colorsofspanish.org/event/south-novato-branch-marin-1115am/2026-01-21
LOCATION:South Novato Library\, 931 C St\, Novato\, CA\, 94949\, United States
CATEGORIES:Storytelling
ATTACH;FMTTYPE=image/png:https://www.colorsofspanish.org/wp-content/uploads/2024/09/marincounty.png
ORGANIZER;CN="Colors of Spanish":MAILTO:info@colorsofspanish.com
END:VEVENT
BEGIN:VEVENT
DTSTART;TZID=America/Los_Angeles:20260122T103000
DTEND;TZID=America/Los_Angeles:20260122T110000
DTSTAMP:20260423T112025
CREATED:20250810T233242Z
LAST-MODIFIED:20250810T233242Z
UID:10002004-1769077800-1769079600@www.colorsofspanish.org
SUMMARY:Children’s Museum of Sonoma County – 10:30am
DESCRIPTION:
URL:https://www.colorsofspanish.org/event/childrens-museum-of-sonoma-county-1030am/2026-01-22
LOCATION:Children’s Museum of Sonoma County\, 1835 W Steele Ln\, Santa Rosa\, CA\, 95403\, United States
CATEGORIES:Storytelling
ATTACH;FMTTYPE=image/jpeg:https://www.colorsofspanish.org/wp-content/uploads/2025/03/CMOSC_logo.jpeg
ORGANIZER;CN="Colors of Spanish":MAILTO:info@colorsofspanish.com
END:VEVENT
BEGIN:VEVENT
DTSTART;TZID=America/Los_Angeles:20260124T100000
DTEND;TZID=America/Los_Angeles:20260124T103000
DTSTAMP:20260423T112025
CREATED:20250810T232906Z
LAST-MODIFIED:20250810T232906Z
UID:10001971-1769248800-1769250600@www.colorsofspanish.org
SUMMARY:Children’s Museum of Sonoma County – 10:00am
DESCRIPTION:
URL:https://www.colorsofspanish.org/event/childrens-museum-of-sonoma-county-1000am-2/2026-01-24
LOCATION:Children’s Museum of Sonoma County\, 1835 W Steele Ln\, Santa Rosa\, CA\, 95403\, United States
CATEGORIES:Storytelling
ATTACH;FMTTYPE=image/jpeg:https://www.colorsofspanish.org/wp-content/uploads/2025/03/CMOSC_logo.jpeg
ORGANIZER;CN="Colors of Spanish":MAILTO:info@colorsofspanish.com
END:VEVENT
BEGIN:VEVENT
DTSTART;TZID=America/Los_Angeles:20260124T103000
DTEND;TZID=America/Los_Angeles:20260124T110000
DTSTAMP:20260423T112025
CREATED:20250819T012528Z
LAST-MODIFIED:20250819T012528Z
UID:10002122-1769250600-1769252400@www.colorsofspanish.org
SUMMARY:Central Library (Santa Rosa) - 10:30am
DESCRIPTION:
URL:https://www.colorsofspanish.org/event/central-library-santa-rosa-1030am/2026-01-24
LOCATION:Santa Rosa Central Library\, 211 E St\, Santa Rosa\, CA\, 95404\, United States
CATEGORIES:Storytelling
ATTACH;FMTTYPE=image/jpeg:https://www.colorsofspanish.org/wp-content/uploads/2025/03/SCL_Logo.Biblioteca_CMYK.jpg
ORGANIZER;CN="Colors of Spanish":MAILTO:info@colorsofspanish.com
END:VEVENT
BEGIN:VEVENT
DTSTART;TZID=America/Los_Angeles:20260126T101500
DTEND;TZID=America/Los_Angeles:20260126T104500
DTSTAMP:20260423T112025
CREATED:20250618T035531Z
LAST-MODIFIED:20251222T025425Z
UID:10002183-1769422500-1769424300@www.colorsofspanish.org
SUMMARY:Mill Valley Library - 10:15am
DESCRIPTION:
URL:https://www.colorsofspanish.org/event/mill-valley-library-1015am/2026-01-26
LOCATION:Mill Valley Public Library\, 375 Throckmorton Ave\, Mill Valley\, CA\, 94941
CATEGORIES:Storytelling
ATTACH;FMTTYPE=image/jpeg:https://www.colorsofspanish.org/wp-content/uploads/2025/03/logo_Mill_Valley_Library_square-1.jpg
ORGANIZER;CN="Colors of Spanish":MAILTO:info@colorsofspanish.com
END:VEVENT
BEGIN:VEVENT
DTSTART;TZID=America/Los_Angeles:20260126T113000
DTEND;TZID=America/Los_Angeles:20260126T120000
DTSTAMP:20260423T112025
CREATED:20250819T012703Z
LAST-MODIFIED:20260102T200026Z
UID:10002131-1769427000-1769428800@www.colorsofspanish.org
SUMMARY:Roseland Regional Library - 11:30am
DESCRIPTION:
URL:https://www.colorsofspanish.org/event/roseland-regional-library-1130am/2026-01-26
LOCATION:Roseland Regional Library\, 470 Sebastopol Rd\, Santa Rosa\, CA\, 95407\, United States
CATEGORIES:Storytelling
ATTACH;FMTTYPE=image/jpeg:https://www.colorsofspanish.org/wp-content/uploads/2025/03/SCL_Logo.Biblioteca_CMYK.jpg
ORGANIZER;CN="Colors of Spanish":MAILTO:info@colorsofspanish.com
END:VEVENT
BEGIN:VEVENT
DTSTART;TZID=America/Los_Angeles:20260127T110000
DTEND;TZID=America/Los_Angeles:20260127T113000
DTSTAMP:20260423T112025
CREATED:20250819T010832Z
LAST-MODIFIED:20250819T010832Z
UID:10002066-1769511600-1769513400@www.colorsofspanish.org
SUMMARY:Windsor Regional Library - 11:00am
DESCRIPTION:
URL:https://www.colorsofspanish.org/event/windsor-regional-library-1100am-2/2026-01-27
LOCATION:Windsor Regional Library\, 9291 Old Redwood Hwy #100\, Windsor\, CA\, 95492\, United States
CATEGORIES:Storytelling
ATTACH;FMTTYPE=image/jpeg:https://www.colorsofspanish.org/wp-content/uploads/2025/03/SCL_Logo.Biblioteca_CMYK.jpg
ORGANIZER;CN="Colors of Spanish":MAILTO:info@colorsofspanish.com
END:VEVENT
BEGIN:VEVENT
DTSTART;TZID=America/Los_Angeles:20260129T103000
DTEND;TZID=America/Los_Angeles:20260129T110000
DTSTAMP:20260423T112025
CREATED:20250810T233242Z
LAST-MODIFIED:20250810T233242Z
UID:10002005-1769682600-1769684400@www.colorsofspanish.org
SUMMARY:Children’s Museum of Sonoma County – 10:30am
DESCRIPTION:
URL:https://www.colorsofspanish.org/event/childrens-museum-of-sonoma-county-1030am/2026-01-29
LOCATION:Children’s Museum of Sonoma County\, 1835 W Steele Ln\, Santa Rosa\, CA\, 95403\, United States
CATEGORIES:Storytelling
ATTACH;FMTTYPE=image/jpeg:https://www.colorsofspanish.org/wp-content/uploads/2025/03/CMOSC_logo.jpeg
ORGANIZER;CN="Colors of Spanish":MAILTO:info@colorsofspanish.com
END:VEVENT
END:VCALENDAR