BEGIN:VCALENDAR
VERSION:2.0
PRODID:-//Colors of Spanish - ECPv6.15.20//NONSGML v1.0//EN
CALSCALE:GREGORIAN
METHOD:PUBLISH
X-WR-CALNAME:Colors of Spanish
X-ORIGINAL-URL:https://www.colorsofspanish.org
X-WR-CALDESC:Events for Colors of Spanish
REFRESH-INTERVAL;VALUE=DURATION:PT1H
X-Robots-Tag:noindex
X-PUBLISHED-TTL:PT1H
BEGIN:VTIMEZONE
TZID:America/Los_Angeles
BEGIN:DAYLIGHT
TZOFFSETFROM:-0800
TZOFFSETTO:-0700
TZNAME:PDT
DTSTART:20250309T100000
END:DAYLIGHT
BEGIN:STANDARD
TZOFFSETFROM:-0700
TZOFFSETTO:-0800
TZNAME:PST
DTSTART:20251102T090000
END:STANDARD
BEGIN:DAYLIGHT
TZOFFSETFROM:-0800
TZOFFSETTO:-0700
TZNAME:PDT
DTSTART:20260308T100000
END:DAYLIGHT
BEGIN:STANDARD
TZOFFSETFROM:-0700
TZOFFSETTO:-0800
TZNAME:PST
DTSTART:20261101T090000
END:STANDARD
BEGIN:DAYLIGHT
TZOFFSETFROM:-0800
TZOFFSETTO:-0700
TZNAME:PDT
DTSTART:20270314T100000
END:DAYLIGHT
BEGIN:STANDARD
TZOFFSETFROM:-0700
TZOFFSETTO:-0800
TZNAME:PST
DTSTART:20271107T090000
END:STANDARD
END:VTIMEZONE
BEGIN:VEVENT
DTSTART;TZID=America/Los_Angeles:20260701T111500
DTEND;TZID=America/Los_Angeles:20260701T114500
DTSTAMP:20260423T112026
CREATED:20250618T040200Z
LAST-MODIFIED:20251222T024549Z
UID:10002149-1782904500-1782906300@www.colorsofspanish.org
SUMMARY:South Novato Branch (Marin) - 11:15am
DESCRIPTION:
URL:https://www.colorsofspanish.org/event/south-novato-branch-marin-1115am-2/2026-07-01
LOCATION:South Novato Library\, 931 C St\, Novato\, CA\, 94949\, United States
CATEGORIES:Storytelling
ATTACH;FMTTYPE=image/png:https://www.colorsofspanish.org/wp-content/uploads/2024/09/marincounty.png
ORGANIZER;CN="Colors of Spanish":MAILTO:info@colorsofspanish.com
END:VEVENT
BEGIN:VEVENT
DTSTART;TZID=America/Los_Angeles:20260710T100000
DTEND;TZID=America/Los_Angeles:20260710T103000
DTSTAMP:20260423T112026
CREATED:20260409T013043Z
LAST-MODIFIED:20260409T013043Z
UID:10002301-1783677600-1783679400@www.colorsofspanish.org
SUMMARY:Larkspur Library (Marin) - 10:00am
DESCRIPTION:
URL:https://www.colorsofspanish.org/event/larkspur-library-marin-1000am-2/2026-07-10
LOCATION:Larkspur Library\, 400 Magnolia Ave\, Larkspur\, CA\, 94939
CATEGORIES:Storytelling
ATTACH;FMTTYPE=image/jpeg:https://www.colorsofspanish.org/wp-content/uploads/2025/09/logo180x90_Larkspur.jpg
ORGANIZER;CN="Colors of Spanish":MAILTO:info@colorsofspanish.com
END:VEVENT
BEGIN:VEVENT
DTSTART;TZID=America/Los_Angeles:20260713T090000
DTEND;TZID=America/Los_Angeles:20260713T130000
DTSTAMP:20260423T112026
CREATED:20260213T004641Z
LAST-MODIFIED:20260213T004641Z
UID:10002294-1783933200-1783947600@www.colorsofspanish.org
SUMMARY:Summer Spanish Immersion - July 13 - 17 | Petaluma
DESCRIPTION:
URL:https://www.colorsofspanish.org/event/summer-spanish-immersion-july-13-17-petaluma/2026-07-13
LOCATION:Loma Vista Immersion School Facilities.\, 207 Maria Dr.\, Petaluma\, CA\, 94954\, United States
CATEGORIES:Summer Spanish Immersion
ATTACH;FMTTYPE=image/webp:https://www.colorsofspanish.org/wp-content/uploads/2025/02/SSI_202501.webp
ORGANIZER;CN="Colors of Spanish":MAILTO:info@colorsofspanish.com
END:VEVENT
BEGIN:VEVENT
DTSTART;TZID=America/Los_Angeles:20260714T090000
DTEND;TZID=America/Los_Angeles:20260714T130000
DTSTAMP:20260423T112026
CREATED:20260213T004641Z
LAST-MODIFIED:20260213T004641Z
UID:10002295-1784019600-1784034000@www.colorsofspanish.org
SUMMARY:Summer Spanish Immersion - July 13 - 17 | Petaluma
DESCRIPTION:
URL:https://www.colorsofspanish.org/event/summer-spanish-immersion-july-13-17-petaluma/2026-07-14
LOCATION:Loma Vista Immersion School Facilities.\, 207 Maria Dr.\, Petaluma\, CA\, 94954\, United States
CATEGORIES:Summer Spanish Immersion
ATTACH;FMTTYPE=image/webp:https://www.colorsofspanish.org/wp-content/uploads/2025/02/SSI_202501.webp
ORGANIZER;CN="Colors of Spanish":MAILTO:info@colorsofspanish.com
END:VEVENT
BEGIN:VEVENT
DTSTART;TZID=America/Los_Angeles:20260715T090000
DTEND;TZID=America/Los_Angeles:20260715T130000
DTSTAMP:20260423T112026
CREATED:20260213T004641Z
LAST-MODIFIED:20260213T004641Z
UID:10002296-1784106000-1784120400@www.colorsofspanish.org
SUMMARY:Summer Spanish Immersion - July 13 - 17 | Petaluma
DESCRIPTION:
URL:https://www.colorsofspanish.org/event/summer-spanish-immersion-july-13-17-petaluma/2026-07-15
LOCATION:Loma Vista Immersion School Facilities.\, 207 Maria Dr.\, Petaluma\, CA\, 94954\, United States
CATEGORIES:Summer Spanish Immersion
ATTACH;FMTTYPE=image/webp:https://www.colorsofspanish.org/wp-content/uploads/2025/02/SSI_202501.webp
ORGANIZER;CN="Colors of Spanish":MAILTO:info@colorsofspanish.com
END:VEVENT
BEGIN:VEVENT
DTSTART;TZID=America/Los_Angeles:20260715T111500
DTEND;TZID=America/Los_Angeles:20260715T114500
DTSTAMP:20260423T112026
CREATED:20250618T034658Z
LAST-MODIFIED:20251222T024837Z
UID:10002161-1784114100-1784115900@www.colorsofspanish.org
SUMMARY:South Novato Branch (Marin) - 11:15am
DESCRIPTION:
URL:https://www.colorsofspanish.org/event/south-novato-branch-marin-1115am/2026-07-15
LOCATION:South Novato Library\, 931 C St\, Novato\, CA\, 94949\, United States
CATEGORIES:Storytelling
ATTACH;FMTTYPE=image/png:https://www.colorsofspanish.org/wp-content/uploads/2024/09/marincounty.png
ORGANIZER;CN="Colors of Spanish":MAILTO:info@colorsofspanish.com
END:VEVENT
BEGIN:VEVENT
DTSTART;TZID=America/Los_Angeles:20260716T090000
DTEND;TZID=America/Los_Angeles:20260716T130000
DTSTAMP:20260423T112026
CREATED:20260213T004641Z
LAST-MODIFIED:20260213T004641Z
UID:10002297-1784192400-1784206800@www.colorsofspanish.org
SUMMARY:Summer Spanish Immersion - July 13 - 17 | Petaluma
DESCRIPTION:
URL:https://www.colorsofspanish.org/event/summer-spanish-immersion-july-13-17-petaluma/2026-07-16
LOCATION:Loma Vista Immersion School Facilities.\, 207 Maria Dr.\, Petaluma\, CA\, 94954\, United States
CATEGORIES:Summer Spanish Immersion
ATTACH;FMTTYPE=image/webp:https://www.colorsofspanish.org/wp-content/uploads/2025/02/SSI_202501.webp
ORGANIZER;CN="Colors of Spanish":MAILTO:info@colorsofspanish.com
END:VEVENT
BEGIN:VEVENT
DTSTART;TZID=America/Los_Angeles:20260717T090000
DTEND;TZID=America/Los_Angeles:20260717T130000
DTSTAMP:20260423T112026
CREATED:20260213T004641Z
LAST-MODIFIED:20260213T004641Z
UID:10002298-1784278800-1784293200@www.colorsofspanish.org
SUMMARY:Summer Spanish Immersion - July 13 - 17 | Petaluma
DESCRIPTION:
URL:https://www.colorsofspanish.org/event/summer-spanish-immersion-july-13-17-petaluma/2026-07-17
LOCATION:Loma Vista Immersion School Facilities.\, 207 Maria Dr.\, Petaluma\, CA\, 94954\, United States
CATEGORIES:Summer Spanish Immersion
ATTACH;FMTTYPE=image/webp:https://www.colorsofspanish.org/wp-content/uploads/2025/02/SSI_202501.webp
ORGANIZER;CN="Colors of Spanish":MAILTO:info@colorsofspanish.com
END:VEVENT
END:VCALENDAR