BEGIN:VCALENDAR
VERSION:2.0
PRODID:-//Colors of Spanish - ECPv6.15.20//NONSGML v1.0//EN
CALSCALE:GREGORIAN
METHOD:PUBLISH
X-ORIGINAL-URL:https://www.colorsofspanish.org
X-WR-CALDESC:Events for Colors of Spanish
REFRESH-INTERVAL;VALUE=DURATION:PT1H
X-Robots-Tag:noindex
X-PUBLISHED-TTL:PT1H
BEGIN:VTIMEZONE
TZID:America/Los_Angeles
BEGIN:DAYLIGHT
TZOFFSETFROM:-0800
TZOFFSETTO:-0700
TZNAME:PDT
DTSTART:20250309T100000
END:DAYLIGHT
BEGIN:STANDARD
TZOFFSETFROM:-0700
TZOFFSETTO:-0800
TZNAME:PST
DTSTART:20251102T090000
END:STANDARD
BEGIN:DAYLIGHT
TZOFFSETFROM:-0800
TZOFFSETTO:-0700
TZNAME:PDT
DTSTART:20260308T100000
END:DAYLIGHT
BEGIN:STANDARD
TZOFFSETFROM:-0700
TZOFFSETTO:-0800
TZNAME:PST
DTSTART:20261101T090000
END:STANDARD
BEGIN:DAYLIGHT
TZOFFSETFROM:-0800
TZOFFSETTO:-0700
TZNAME:PDT
DTSTART:20270314T100000
END:DAYLIGHT
BEGIN:STANDARD
TZOFFSETFROM:-0700
TZOFFSETTO:-0800
TZNAME:PST
DTSTART:20271107T090000
END:STANDARD
END:VTIMEZONE
BEGIN:VEVENT
DTSTART;TZID=America/Los_Angeles:20260902T111500
DTEND;TZID=America/Los_Angeles:20260902T114500
DTSTAMP:20260423T145120
CREATED:20250618T040200Z
LAST-MODIFIED:20251222T024549Z
UID:10002151-1788347700-1788349500@www.colorsofspanish.org
SUMMARY:South Novato Branch (Marin) - 11:15am
DESCRIPTION:
URL:https://www.colorsofspanish.org/event/south-novato-branch-marin-1115am-2/2026-09-02
LOCATION:South Novato Library\, 931 C St\, Novato\, CA\, 94949\, United States
CATEGORIES:Storytelling
ATTACH;FMTTYPE=image/png:https://www.colorsofspanish.org/wp-content/uploads/2024/09/marincounty.png
ORGANIZER;CN="Colors of Spanish":MAILTO:info@colorsofspanish.com
END:VEVENT
BEGIN:VEVENT
DTSTART;TZID=America/Los_Angeles:20260916T111500
DTEND;TZID=America/Los_Angeles:20260916T114500
DTSTAMP:20260423T145120
CREATED:20250618T034658Z
LAST-MODIFIED:20251222T024837Z
UID:10002163-1789557300-1789559100@www.colorsofspanish.org
SUMMARY:South Novato Branch (Marin) - 11:15am
DESCRIPTION:
URL:https://www.colorsofspanish.org/event/south-novato-branch-marin-1115am/2026-09-16
LOCATION:South Novato Library\, 931 C St\, Novato\, CA\, 94949\, United States
CATEGORIES:Storytelling
ATTACH;FMTTYPE=image/png:https://www.colorsofspanish.org/wp-content/uploads/2024/09/marincounty.png
ORGANIZER;CN="Colors of Spanish":MAILTO:info@colorsofspanish.com
END:VEVENT
BEGIN:VEVENT
DTSTART;TZID=America/Los_Angeles:20260926T133000
DTEND;TZID=America/Los_Angeles:20260926T140000
DTSTAMP:20260423T145120
CREATED:20260409T021202Z
LAST-MODIFIED:20260409T021202Z
UID:10002305-1790429400-1790431200@www.colorsofspanish.org
SUMMARY:Children's Fairyland (Oakland) - 1:30pm
DESCRIPTION:
URL:https://www.colorsofspanish.org/event/childrens-fairyland-oakland-130pm/2026-09-26
LOCATION:Children’s Fairyland\, 699 Bellevue Ave\, Oakland\, CA\, 94610
CATEGORIES:Storytelling
ATTACH;FMTTYPE=image/webp:https://www.colorsofspanish.org/wp-content/uploads/2026/04/logo_Fairyland-1.png
ORGANIZER;CN="Colors of Spanish":MAILTO:info@colorsofspanish.com
END:VEVENT
BEGIN:VEVENT
DTSTART;TZID=America/Los_Angeles:20260926T143000
DTEND;TZID=America/Los_Angeles:20260926T150000
DTSTAMP:20260423T145120
CREATED:20260409T021523Z
LAST-MODIFIED:20260409T021523Z
UID:10002311-1790433000-1790434800@www.colorsofspanish.org
SUMMARY:Children's Fairyland (Oakland) - 2:30pm
DESCRIPTION:
URL:https://www.colorsofspanish.org/event/childrens-fairyland-oakland-230pm/2026-09-26
LOCATION:Children’s Fairyland\, 699 Bellevue Ave\, Oakland\, CA\, 94610
CATEGORIES:Storytelling
ATTACH;FMTTYPE=image/webp:https://www.colorsofspanish.org/wp-content/uploads/2026/04/logo_Fairyland-1.png
ORGANIZER;CN="Colors of Spanish":MAILTO:info@colorsofspanish.com
END:VEVENT
BEGIN:VEVENT
DTSTART;TZID=America/Los_Angeles:20260927T133000
DTEND;TZID=America/Los_Angeles:20260927T140000
DTSTAMP:20260423T145120
CREATED:20260409T021202Z
LAST-MODIFIED:20260409T021202Z
UID:10002306-1790515800-1790517600@www.colorsofspanish.org
SUMMARY:Children's Fairyland (Oakland) - 1:30pm
DESCRIPTION:
URL:https://www.colorsofspanish.org/event/childrens-fairyland-oakland-130pm/2026-09-27
LOCATION:Children’s Fairyland\, 699 Bellevue Ave\, Oakland\, CA\, 94610
CATEGORIES:Storytelling
ATTACH;FMTTYPE=image/webp:https://www.colorsofspanish.org/wp-content/uploads/2026/04/logo_Fairyland-1.png
ORGANIZER;CN="Colors of Spanish":MAILTO:info@colorsofspanish.com
END:VEVENT
BEGIN:VEVENT
DTSTART;TZID=America/Los_Angeles:20260927T143000
DTEND;TZID=America/Los_Angeles:20260927T150000
DTSTAMP:20260423T145121
CREATED:20260409T021523Z
LAST-MODIFIED:20260409T021523Z
UID:10002312-1790519400-1790521200@www.colorsofspanish.org
SUMMARY:Children's Fairyland (Oakland) - 2:30pm
DESCRIPTION:
URL:https://www.colorsofspanish.org/event/childrens-fairyland-oakland-230pm/2026-09-27
LOCATION:Children’s Fairyland\, 699 Bellevue Ave\, Oakland\, CA\, 94610
CATEGORIES:Storytelling
ATTACH;FMTTYPE=image/webp:https://www.colorsofspanish.org/wp-content/uploads/2026/04/logo_Fairyland-1.png
ORGANIZER;CN="Colors of Spanish":MAILTO:info@colorsofspanish.com
END:VEVENT
END:VCALENDAR